BEGIN:VCALENDAR
VERSION:2.0
PRODID:-//wp-events-plugin.com//7.2.3.1//EN
TZID:Europe/Zurich
X-WR-TIMEZONE:Europe/Zurich
BEGIN:VEVENT
UID:184@qkk6.ch
DTSTART;TZID=Europe/Zurich:20230306T200000
DTEND;TZID=Europe/Zurich:20230306T200000
DTSTAMP:20221208T124459Z
URL:https://www.qkk6.ch/events/2023/03/06/nideroest-soehne-jetzt/
SUMMARY:Nideröst & Söhne - &jetzt?
DESCRIPTION:&nbsp\;nideröst&amp\;söhne – &amp\;jetzt? Das neue abendfü
 llende Programm \nnideröst&amp\;söhne finden es auch nicht nur lustig. N
 ichts ist mehr\, wie es war. Trotzdem ist nicht alles anders. Wie geht es 
 weiter? Wo stehen wir an? Wie wär‘s mit einem Boxenstopp? Was muss alle
 s auf die Liste? Welche Ordnung brauchen wir? Wissen wir\, was wir meinen?
 \nSolchen &amp\; ähnlichen Fragen des alltäglichen Irrsinns gehen die dr
 ei Söhne in ihrem sechsten Abendprogramm nach. Ein Muss für alle Fragend
 en\, denen das Schmunzeln nicht abhanden gekommen ist!\n\nnideröst&amp\;s
 öhne www.nideroestundsoehne.ch entzücken ihr stetig wachsendes Publikum 
 seit über 15 Jahren mit garantiert 100% züritüütschen Liedern. Die dre
 i Musiker\, Texter &amp\; Komponisten sind: Mathis Kramer-Länger (b / git
  / voc) Kaspar Schindler (keyb / git / voc) Andi Thürig (sax / perc / voc
 )\n\nEintritt: 35.-/30.- Reservation 044 361 80 51 oder tickets@theater-ri
 giblick.ch
ATTACH;FMTTYPE=image/jpeg:https://www.qkk6.ch/wp-content/uploads/nideroest
 -e1670503460276.png
CATEGORIES:Konzert,Lesung
LOCATION:Theater Rigiblick\, Germaniastrasse 99\, Zürich\, 8044\, Schweiz
GEO:47.388274;8.553456
X-APPLE-STRUCTURED-LOCATION;VALUE=URI;X-ADDRESS=Germaniastrasse 99\, Züric
 h\, 8044\, Schweiz;X-APPLE-RADIUS=100;X-TITLE=Theater Rigiblick:geo:47.388
 274,8.553456
END:VEVENT
BEGIN:VTIMEZONE
TZID:Europe/Zurich
X-LIC-LOCATION:Europe/Zurich
BEGIN:STANDARD
DTSTART:20221030T020000
TZOFFSETFROM:+0200
TZOFFSETTO:+0100
TZNAME:CET
END:STANDARD
END:VTIMEZONE
END:VCALENDAR