BEGIN:VCALENDAR
VERSION:2.0
PRODID:-//wp-events-plugin.com//7.2.3.1//EN
TZID:Europe/Zurich
X-WR-TIMEZONE:Europe/Zurich
BEGIN:VEVENT
UID:187@qkk6.ch
DTSTART;TZID=Europe/Zurich:20230301T200000
DTEND;TZID=Europe/Zurich:20230301T200000
DTSTAMP:20230123T082904Z
URL:https://www.qkk6.ch/events/2023/03/01/lesung-mit-martin-r-dean/
SUMMARY:Ein Stück Himmel - Lesung mit Martin R. Dean
DESCRIPTION:Ein Stück Himmel\nDrei Jahre haben sie sich nicht mehr gesehen
 \, ein schrecklicher Unfall bringt sie wieder zusammen: den Arzt Florian F
 üssli und den Künstler Samuel Butt\, der nach einem Sturz gelähmt is
 t. Florian will seinen Freund aufrichten und gleichzeitig verstehen\, was 
 eigentlich vor drei Jahren passiert ist. Samuel ist damals mit einem Kunst
 stipendium nach Rom gegangen\, und plötzlich brach der Kontakt ab. Die b
 eiden Männer umkreisen einander mit Fragen: Warum ist Samuel als Künst
 ler gescheitert? Hat eine Frau dabei die Hand im Spiel gehabt? Warum hat F
 lorian kein Glück in der Liebe gefunden? Wie viel ist ein »halbes Leben
 « wert? Wie geht man mit Verlusten um? Auf einer Reise nach Portugal bric
 ht alles auf. Und der nächste Schritt kann Untergang bedeuten oder Erlo
 ̈sung.\n\nEin Stück Himmel stellt existenzielle Fragen nach Freundschaf
 t und Liebe\, Leben und Tod\, nach Nutzen und Grenzen der modernen Medizin
  – ein ebenso beklemmender wie leichtfüßig erzählter Roman mit eine
 m verblüffenden Showdown.\n\n«Hintergründige psychologische Erzählkun
 st\, die Sinn für heikle Situationen und schräge Momente hat.»\nCarsten
  Otte / SWR2 über Warum wir zusammen sind\n\nMartin R. Dean www.mrdean.ch
 \n\nFreier Eintritt\, Kollekte\, Anmeldung bis 28.2.2023 an E-Mail
ATTACH;FMTTYPE=image/jpeg:https://www.qkk6.ch/wp-content/uploads/dean-und-
 buchmit-fot-scaled-e1672832541700.jpg
CATEGORIES:Lesung
LOCATION:Röslischüür\, Röslistrasse 9\, Zürich\, 8006\, Schweiz
GEO:47.388508;8.541154
X-APPLE-STRUCTURED-LOCATION;VALUE=URI;X-ADDRESS=Röslistrasse 9\, Zürich\,
  8006\, Schweiz;X-APPLE-RADIUS=100;X-TITLE=Röslischüür:geo:47.388508,8.
 541154
END:VEVENT
BEGIN:VTIMEZONE
TZID:Europe/Zurich
X-LIC-LOCATION:Europe/Zurich
BEGIN:STANDARD
DTSTART:20221030T020000
TZOFFSETFROM:+0200
TZOFFSETTO:+0100
TZNAME:CET
END:STANDARD
END:VTIMEZONE
END:VCALENDAR