BEGIN:VCALENDAR
VERSION:2.0
PRODID:-//wp-events-plugin.com//7.2.3.1//EN
TZID:Europe/Zurich
X-WR-TIMEZONE:Europe/Zurich
BEGIN:VEVENT
UID:186@qkk6.ch
DTSTART;TZID=Europe/Zurich:20230209T200000
DTEND;TZID=Europe/Zurich:20230209T200000
DTSTAMP:20230205T084519Z
URL:https://www.qkk6.ch/events/2023/02/09/yves-schumacher/
SUMMARY:Lesung mit Yves Schumacher: Die Motteneierzählung
DESCRIPTION:Die Motteneierzählung\n\nWie die Kakteenplage in Australien bi
 ologisch besiegt wurde\n\nIn diesem Doku-Roman geht es um die Geschichte d
 er weltweit ersten biologischen Bekämpfung einer gewaltigen Pflanzeninvas
 ion. Keine dröge Wissenschaft\, sondern spannende botanische und entomolo
 gische Schilderungen – literarisch eingebettet in ein kulturgeschichtlic
 hes Narrativ mit surrealen Anflügen. Es ist die Odyssee des in Australien
  entwurzelten Botanikers Stanislaus Kurz aus Böhmen.\nIm 19. Jahrhundert 
 sorglos nach Australien eingeschleppte Feigenkakteen (Opuntien) verbreitet
 en sich immer üppiger. Auf dem Höhepunkt der Invasion\, in den 1920er-Ja
 hren\, überwucherten sie mehr als 190‘000 km² Weideland in Queensland 
 und Neusüdwales mit durchdinglichen Kakteenwäldern – eine also mehr al
 s viermal so grosse Fläche wie die Schweiz. Um das Land wieder urbar zu m
 achen\, wurde alles versucht. Da Pestizide nichts nützten\, suchten austr
 alische Insektenforscher in Amerika nach Opuntienschädlingen. In Argentin
 ien fanden sie eine winzige Motte namens Cactoblastis cactorum.&nbsp\; Die
 se legt ihre Eier auf die Opuntien\, und ihre Larven fressen sich durch da
 s Kaktusgewebe\, bis die Pflanzen restlos vertilgt sind. Millionen davon w
 urden in Queensland gezüchtet\, ihre Eier abgezählt und auf den Feldern 
 verteilt. Seit ihrem Einsatz ist die Kakteenplage im Griff.\n\nDer Autor\n
 Yves H. Schumacher ist selbst begeisterter Kakteensammler und engagiert si
 ch für die Sukkulenten-Sammlung der Stadt Zürich. Er wurde 1946 in Züri
 ch geboren und war für verschiedene internationale Unternehmen tätig. Ei
 n über zweijähriger beruflicher Aufenthalt in China\, zahlreiche Geschä
 ftseisen in Afrika und Südamerika sowie Aufenthalte in Frankreich nutzte 
 er für seine historischen Forschungen.\nDer Autor ist Kommunikationsberat
 er\, Inhaber einer PR-Agentur und lebt im Kreis 6. Als ehemaliger Geschäf
 tsleiter des «Vereins Zürcher Museen»\, legte er zahlreiche kulturhisto
 rische Bücher und Artikel auf und kuratiert Ausstellungen.\nSchumacher Yv
 es H.:&nbsp\; Die Motteneierzählung. Roman\, Hardcover\, 204 Seiten mit z
 ahlreichen historischen Abbildungen\, zocher &amp\; peter verlag kmg\, 202
 2\, ISBN 978-3-907159-43-9\n\nFreier Eintritt\, Kollekte\, Anmeldung bis 8
 .2.2023 an E-Mail
ATTACH;FMTTYPE=image/jpeg:https://www.qkk6.ch/wp-content/uploads/Yves-e167
 0928416380.png
CATEGORIES:Lesung
LOCATION:Röslischüür\, Röslistrasse 9\, Zürich\, 8006\, Schweiz
GEO:47.388508;8.541154
X-APPLE-STRUCTURED-LOCATION;VALUE=URI;X-ADDRESS=Röslistrasse 9\, Zürich\,
  8006\, Schweiz;X-APPLE-RADIUS=100;X-TITLE=Röslischüür:geo:47.388508,8.
 541154
END:VEVENT
BEGIN:VTIMEZONE
TZID:Europe/Zurich
X-LIC-LOCATION:Europe/Zurich
BEGIN:STANDARD
DTSTART:20221030T020000
TZOFFSETFROM:+0200
TZOFFSETTO:+0100
TZNAME:CET
END:STANDARD
END:VTIMEZONE
END:VCALENDAR