BEGIN:VCALENDAR
VERSION:2.0
PRODID:-//wp-events-plugin.com//7.2.3.1//EN
TZID:Europe/Zurich
X-WR-TIMEZONE:Europe/Zurich
BEGIN:VEVENT
UID:182@qkk6.ch
DTSTART;TZID=Europe/Zurich:20230123T200000
DTEND;TZID=Europe/Zurich:20230123T200000
DTSTAMP:20221122T091047Z
URL:https://www.qkk6.ch/events/2023/01/23/kulinaritaeten-lesung-und-lieder
 /
SUMMARY:Kulinaritäten: Lesung und Lieder
DESCRIPTION:Kulinaritäten: Lesung und Lieder\nGraziella Rossi\, Helmut Vog
 el&nbsp\;&nbsp\;&nbsp\;&nbsp\; Text und Gesang\nDaniel Fueter&nbsp\; &nbsp
 \;&nbsp\;&nbsp\;&nbsp\;&nbsp\;&nbsp\;&nbsp\;&nbsp\;&nbsp\;&nbsp\;&nbsp\;&n
 bsp\;&nbsp\;&nbsp\;&nbsp\;&nbsp\;&nbsp\;&nbsp\;&nbsp\;&nbsp\;&nbsp\;&nbsp\
 ;&nbsp\;&nbsp\;&nbsp\;&nbsp\;&nbsp\;&nbsp\; Konzept und Klavier\n\nDas Pro
 gramm „Kulinaritäten“ basiert auf dem unter diesem Titel in Buchform 
 veröffentlichten Briefwechsel zwischen Alice Vollenweider (1927 – 2011)
  und Hugo Loetscher (1929 – 2009). Während eines Jahres – Mitte der 8
 0er Jahre des vergangenen Jahrhunderts - tauschte sich die Romanistin\, di
 e gleichzeitig für ihre Kochrezepte berühmt war\, und der Romanautor und
  Essayist über die Kunst des Kochens aus. Im witzigen Dialog öffnet sich
  der Blick weit über den Tellerrand hinaus. Natürlich gibt es immer wied
 er Verweise auf die Literatur\, aber auch das gesellschaftliche Leben\, Po
 litik und allgemeine Geschichte werden einbezogen. Der Briefwechsel hat an
  Aktualität und Unterhaltungswert nichts eingebüsst.\n\nEintritt Fr. 35.
 -/30.-\, Reservation 044 361 80 51 oder tickets@theater-rigiblick.ch
ATTACH;FMTTYPE=image/jpeg:https://www.qkk6.ch/wp-content/uploads/Foto_DSC0
 262-pdf.jpg
CATEGORIES:Lesung
LOCATION:Theater Rigiblick\, Germaniastrasse 99\, Zürich\, 8044\, Schweiz
GEO:47.388274;8.553456
X-APPLE-STRUCTURED-LOCATION;VALUE=URI;X-ADDRESS=Germaniastrasse 99\, Züric
 h\, 8044\, Schweiz;X-APPLE-RADIUS=100;X-TITLE=Theater Rigiblick:geo:47.388
 274,8.553456
END:VEVENT
BEGIN:VTIMEZONE
TZID:Europe/Zurich
X-LIC-LOCATION:Europe/Zurich
BEGIN:STANDARD
DTSTART:20221030T020000
TZOFFSETFROM:+0200
TZOFFSETTO:+0100
TZNAME:CET
END:STANDARD
END:VTIMEZONE
END:VCALENDAR