BEGIN:VCALENDAR
VERSION:2.0
PRODID:-//wp-events-plugin.com//7.2.3.1//EN
TZID:Europe/Zurich
X-WR-TIMEZONE:Europe/Zurich
BEGIN:VEVENT
UID:181@qkk6.ch
DTSTART;TZID=Europe/Zurich:20230118T200000
DTEND;TZID=Europe/Zurich:20230118T200000
DTSTAMP:20221104T123728Z
URL:https://www.qkk6.ch/events/2023/01/18/bennys-from-heaven-2/
SUMMARY:Benny's from heaven
DESCRIPTION:Benny`s from heaven (Swing)\n\n«Benny’s from Heaven» ist zw
 eideutig zu interpretieren\, zum einen ist der Bandname eine Anspielung an
  den Jazzsong und den gleichnamigen Film «Pennies from Heaven» von und m
 it Bing Crosby. Zum anderen war Benny Goodman der King of Swing\, und dem 
 Repertoire\, welches er zu spielen pflegte\,hat sich diese Band mit grosse
 r Leidenschaft verschrieben\, um diese grossartige Musik wieder aufleben z
 u lassen. Unvergessliche Nummern wie «Stompin’ at the Savoy»\, «Lady 
 Be Good»\, «Memories of You» und viele mehr. Ein Ohrenschmaus der Extra
 klasse\, let’s dance!\n\nSimon Wyrsch&nbsp\;&nbsp\; clarinet\nDave Ruosc
 h&nbsp\;&nbsp\; &nbsp\; piano\nKalli Gerhards&nbsp\; &nbsp\; bass\nMartin 
 Meyer&nbsp\;&nbsp\;&nbsp\; drums\n\nFreier Eintritt\, Kollekte\, Anmeldung
  bis 17.1.2023 an E-Mail
ATTACH;FMTTYPE=image/jpeg:https://www.qkk6.ch/wp-content/uploads/wyrsch-sc
 aled-e1667565420451.jpg
CATEGORIES:Konzert
LOCATION:Röslischüür\, Röslistrasse 9\, Zürich\, 8006\, Schweiz
GEO:47.388508;8.541154
X-APPLE-STRUCTURED-LOCATION;VALUE=URI;X-ADDRESS=Röslistrasse 9\, Zürich\,
  8006\, Schweiz;X-APPLE-RADIUS=100;X-TITLE=Röslischüür:geo:47.388508,8.
 541154
END:VEVENT
BEGIN:VTIMEZONE
TZID:Europe/Zurich
X-LIC-LOCATION:Europe/Zurich
BEGIN:STANDARD
DTSTART:20221030T020000
TZOFFSETFROM:+0200
TZOFFSETTO:+0100
TZNAME:CET
END:STANDARD
END:VTIMEZONE
END:VCALENDAR