BEGIN:VCALENDAR
VERSION:2.0
PRODID:-//wp-events-plugin.com//7.2.3.1//EN
TZID:Europe/Zurich
X-WR-TIMEZONE:Europe/Zurich
BEGIN:VEVENT
UID:178@qkk6.ch
DTSTART;TZID=Europe/Zurich:20221213T200000
DTEND;TZID=Europe/Zurich:20221213T200000
DTSTAMP:20221005T073714Z
URL:https://www.qkk6.ch/events/2022/12/13/classic-meets-jazz-2/
SUMMARY:Classic meets Jazz
DESCRIPTION:Classic meets Jazz\n3 Pianisten\n\nChris Conz\nMaurice Imhof\nD
 ave Ruosch\n\n30 Finger an 176 Tasten. Ein pianistisches Feuerwerk mit vie
 l Spielfreude\, Witz und mitreissendem Groove.\nDiese drei preisgekrönten
  Pianisten muss man nicht mehr gross vorstellen. Sie kennen sich bestens m
 it Boogie Woogie und Stride Piano aus und kombinieren dieses Jazz-Klaviers
 tile mit klassischer Musik von Bach bis Rossini.\nWenn der Tastenzauberer 
 Maurice Imhof am Klavier sitzt\, geht so mancher die Kinnlade runter\, die
  dann durch ein Lächeln wieder hochgezogen wird. Chris Conz\, der Boogie 
 Woogie Spezialist macht es einem schwer\, auf dem Stuhl sitzen zu bleiben 
 und mit Dave Ruosch ist ein begnadeter Arrangeur am Werk\, der skrupellos 
 die alten Meisterwerke\, unter anderem von Johann Sebastian Bach\, im unge
 wohnten Jazzgewand zu neuem Leben erweckt.\n\nEintritt: 35.00 / 30.00 / 25
 .00\nReservation 044 361 80 51 oder tickets@theater-rigiblick.ch
ATTACH;FMTTYPE=image/jpeg:https://www.qkk6.ch/wp-content/uploads/ruosch-1-
 e1664264503866.png
CATEGORIES:Konzert
LOCATION:Theater Rigiblick\, Germaniastrasse 99\, Zürich\, 8044\, Schweiz
GEO:47.388274;8.553456
X-APPLE-STRUCTURED-LOCATION;VALUE=URI;X-ADDRESS=Germaniastrasse 99\, Züric
 h\, 8044\, Schweiz;X-APPLE-RADIUS=100;X-TITLE=Theater Rigiblick:geo:47.388
 274,8.553456
END:VEVENT
BEGIN:VTIMEZONE
TZID:Europe/Zurich
X-LIC-LOCATION:Europe/Zurich
BEGIN:STANDARD
DTSTART:20221030T020000
TZOFFSETFROM:+0200
TZOFFSETTO:+0100
TZNAME:CET
END:STANDARD
END:VTIMEZONE
END:VCALENDAR