BEGIN:VCALENDAR
VERSION:2.0
PRODID:-//wp-events-plugin.com//7.2.3.1//EN
TZID:Europe/Zurich
X-WR-TIMEZONE:Europe/Zurich
BEGIN:VEVENT
UID:176@qkk6.ch
DTSTART;TZID=Europe/Zurich:20221128T200000
DTEND;TZID=Europe/Zurich:20221128T200000
DTSTAMP:20220920T064934Z
URL:https://www.qkk6.ch/events/2022/11/28/marianne-racine-und-paer-naesbom
 /
SUMMARY:Marianne Racine und Pär Näsbom
DESCRIPTION:'SCHWEDENSTUBETE'\nZwei schwedische Musiker\, die 'ewig schon' 
 auf eigenen Wegen liebeshalber in der Schweiz landeten\, treffen aufeinand
 er um ihr gemeinsames nordisches Liedgut spielend zu singen.\nHerzschmerzl
 ieder &amp\; groovige Tänze\, - von Polskas via finnischen Tango bis ABBA
 !\n\nMarianne Racine&nbsp\;&nbsp\;&nbsp\;&nbsp\;&nbsp\;&nbsp\; voc\, p\nP
 är Näsbom&nbsp\; &nbsp\;&nbsp\;&nbsp\;&nbsp\;&nbsp\;&nbsp\;&nbsp\;&nbsp\
 ;&nbsp\;&nbsp\;&nbsp\;&nbsp\;&nbsp\;&nbsp\;&nbsp\;&nbsp\;&nbsp\; vln\n\nEi
 ntritt Fr. 35.-/30.-\, Reservation 044 361 80 51 oder tickets@theater-rigi
 blick.ch
ATTACH;FMTTYPE=image/jpeg:https://www.qkk6.ch/wp-content/uploads/IMG_3166-
 scaled-e1657699474678.jpeg
CATEGORIES:Konzert
LOCATION:Theater Rigiblick\, Germaniastrasse 99\, Zürich\, 8044\, Schweiz
GEO:47.388274;8.553456
X-APPLE-STRUCTURED-LOCATION;VALUE=URI;X-ADDRESS=Germaniastrasse 99\, Züric
 h\, 8044\, Schweiz;X-APPLE-RADIUS=100;X-TITLE=Theater Rigiblick:geo:47.388
 274,8.553456
END:VEVENT
BEGIN:VTIMEZONE
TZID:Europe/Zurich
X-LIC-LOCATION:Europe/Zurich
BEGIN:STANDARD
DTSTART:20221030T020000
TZOFFSETFROM:+0200
TZOFFSETTO:+0100
TZNAME:CET
END:STANDARD
END:VTIMEZONE
END:VCALENDAR