BEGIN:VCALENDAR
VERSION:2.0
PRODID:-//wp-events-plugin.com//7.2.3.1//EN
TZID:Europe/Zurich
X-WR-TIMEZONE:Europe/Zurich
BEGIN:VEVENT
UID:180@qkk6.ch
DTSTART;TZID=Europe/Zurich:20221127T110000
DTEND;TZID=Europe/Zurich:20221127T160000
DTSTAMP:20220928T101427Z
URL:https://www.qkk6.ch/events/2022/11/27/design-weihnachtsmarkt-2022-2/
SUMMARY:Design-Weihnachtsmarkt 2022
DESCRIPTION:Entdecken Sie an unserem Weihnachtsmarkt in der Röslischüür 
 Designprodukte unabhängiger Labels und Kleinstproduzentinnen und -produze
 nten aus dem Kreis 6 und freuen Sie sich auf Begegnungen mit Anderen aus d
 em Quartier bei Glühwein\, Kaffee und allerlei feinen Leckereien.\n\nWir 
 freuen uns auf einen stimmungsvollen Markt mit gemütlichem Weihnachtseink
 auf an der Röslistrasse 9.\n\nQKK6 Quartier-Kultur Kreis 6\n\n&nbsp\;\n\n
 &nbsp\;\n\n&nbsp\;\n\n&nbsp\;
ATTACH;FMTTYPE=image/jpeg:https://www.qkk6.ch/wp-content/uploads/Flyer-Des
 ign-Weihnachtsmarkt-2022-RZ-pdf.jpg
CATEGORIES:Ausstellung,Markt
LOCATION:Röslischüür\, Röslistrasse 9\, Zürich\, 8006\, Schweiz
GEO:47.388508;8.541154
X-APPLE-STRUCTURED-LOCATION;VALUE=URI;X-ADDRESS=Röslistrasse 9\, Zürich\,
  8006\, Schweiz;X-APPLE-RADIUS=100;X-TITLE=Röslischüür:geo:47.388508,8.
 541154
END:VEVENT
BEGIN:VTIMEZONE
TZID:Europe/Zurich
X-LIC-LOCATION:Europe/Zurich
BEGIN:STANDARD
DTSTART:20221030T020000
TZOFFSETFROM:+0200
TZOFFSETTO:+0100
TZNAME:CET
END:STANDARD
END:VTIMEZONE
END:VCALENDAR