BEGIN:VCALENDAR
VERSION:2.0
PRODID:-//wp-events-plugin.com//7.2.3.1//EN
TZID:Europe/Zurich
X-WR-TIMEZONE:Europe/Zurich
BEGIN:VEVENT
UID:169@qkk6.ch
DTSTART;TZID=Europe/Zurich:20221116T200000
DTEND;TZID=Europe/Zurich:20221116T200000
DTSTAMP:20220620T082324Z
URL:https://www.qkk6.ch/events/2022/11/16/urs-hardegger-liest-aus-seinem-n
 euen-buch/
SUMMARY:Urs Hardegger liest aus seinem neuen Buch
DESCRIPTION:FÃ¼r einen Pass und etwas Leben\nDer Roman von Urs Hardegger ba
 siert auf der wahren Geschichte von drei jÃ¼dischen FlÃ¼chtlingen\, die es
  auf unterschiedlichen Wegen zur Zeit des Nationalsozialismus in die Schwe
 iz verschlagen&nbsp\;hat. Fanny Schulthess-Hirsch arbeitet in einer Hilfso
 rganisation fÃ¼r jÃ¼dische FlÃ¼chtlinge in Genf. Der niederlÃ¤ndische Stud
 ent Huug von Dantzig ist in einem Lager in Cossonay\, spÃ¤ter versucht er\
 ,&nbsp\;sich in Italien den alliierten Truppen anzuschlieÃŸen. Der aus Pol
 en stammende Rabbiner Shaul Weingort studierte in Berlin\, er schafft es n
 ach Montreux und versucht von dort aus verzweifelt\, seine&nbsp\;Familie m
 it Proforma-PÃ¤ssen aus dem Warschauer Ghetto zu retten.\nGeschildert aus 
 unterschiedlichen Perspektiven\, verweben sich die Einzelschicksale im Buc
 h zunehmend zu einer eindringlichen ErzÃ¤hlung der Schweizer Weltkriegsjah
 re.&nbsp\;\n\nFreier Eintritt\, Kollekte\, Anmeldung bis 15.11.22 an E-Mai
 l&nbsp\; Platzzahl beschrÃ¤nkt!
ATTACH;FMTTYPE=image/jpeg:https://www.qkk6.ch/wp-content/uploads/Cover-FuÌ
 ˆr-einen-Pass-und-etwas-Leben-pdf.jpg
CATEGORIES:Lesung
LOCATION:RÃ¶slischÃ¼Ã¼r\, RÃ¶slistrasse 9\, ZÃ¼rich\, 8006\, Schweiz
GEO:47.388508;8.541154
X-APPLE-STRUCTURED-LOCATION;VALUE=URI;X-ADDRESS=RÃ¶slistrasse 9\, ZÃ¼rich\,
  8006\, Schweiz;X-APPLE-RADIUS=100;X-TITLE=RÃ¶slischÃ¼Ã¼r:geo:47.388508,8.
 541154
END:VEVENT
BEGIN:VTIMEZONE
TZID:Europe/Zurich
X-LIC-LOCATION:Europe/Zurich
BEGIN:STANDARD
DTSTART:20221030T020000
TZOFFSETFROM:+0200
TZOFFSETTO:+0100
TZNAME:CET
END:STANDARD
END:VTIMEZONE
END:VCALENDAR