BEGIN:VCALENDAR
VERSION:2.0
PRODID:-//wp-events-plugin.com//7.2.3.1//EN
TZID:Europe/Zurich
X-WR-TIMEZONE:Europe/Zurich
BEGIN:VEVENT
UID:175@qkk6.ch
DTSTART;TZID=Europe/Zurich:20221031T200000
DTEND;TZID=Europe/Zurich:20221031T200000
DTSTAMP:20220920T064840Z
URL:https://www.qkk6.ch/events/2022/10/31/ensemble-endwend/
SUMMARY:Ensemble EndWend
DESCRIPTION:Das Projekt Palindrom\nDas neue Projekt des Ensembles EndWend b
 esteht aus fünf Uraufführungen von neuen Werken der beteiligten Musiker*
 innen. Die fünf Kompositionen nehmen in je eigener Weise Bezug auf das ü
 bergeordnete Thema Palindrom.\n\nInspiriert von Texten des Zürcher Autors
  Anton Bruhin (Spiegelgedichte und Palindrome) entstanden neue Komposition
 en\, welche sich auf je eigene Weise mit dem Thema auseinandersetzen.\n\nE
 nsemble EndWend Leo Bachmann\, Madeleine Bischof\, Eva Debrunner\, Ursula 
 Maehr\, Thomas K.J. Mejer\, Margrit Schenker\, Valentin Vecellio\, Barbara
  Zimmerli\n\nEintritt: Fr. 35.-/30.-\, Reservation 044 361 80 51 oder tick
 ets@theater-rigiblick.ch
ATTACH;FMTTYPE=image/jpeg:https://www.qkk6.ch/wp-content/uploads/endwend2.
 jpg
CATEGORIES:Konzert
LOCATION:Theater Rigiblick\, Germaniastrasse 99\, Zürich\, 8044\, Schweiz
GEO:47.388274;8.553456
X-APPLE-STRUCTURED-LOCATION;VALUE=URI;X-ADDRESS=Germaniastrasse 99\, Züric
 h\, 8044\, Schweiz;X-APPLE-RADIUS=100;X-TITLE=Theater Rigiblick:geo:47.388
 274,8.553456
END:VEVENT
BEGIN:VTIMEZONE
TZID:Europe/Zurich
X-LIC-LOCATION:Europe/Zurich
BEGIN:STANDARD
DTSTART:20221030T020000
TZOFFSETFROM:+0200
TZOFFSETTO:+0100
TZNAME:CET
END:STANDARD
END:VTIMEZONE
END:VCALENDAR