BEGIN:VCALENDAR
VERSION:2.0
PRODID:-//wp-events-plugin.com//7.2.3.1//EN
TZID:Europe/Zurich
X-WR-TIMEZONE:Europe/Zurich
BEGIN:VEVENT
UID:172@qkk6.ch
DTSTART;TZID=Europe/Zurich:20221029T200000
DTEND;TZID=Europe/Zurich:20221029T200000
DTSTAMP:20221020T134349Z
URL:https://www.qkk6.ch/events/2022/10/29/schertenleib-im-rausch/
SUMMARY:Wegen Erkrankung abgesagt: Zürich liest: Schertenleib im Rausch
DESCRIPTION:\nSchertenleib im Rausch\nHansjörg Schertenleibs fünfundzwanz
 igstes Buch ´Die grüne Fee´ ist eine Gespenstergeschichte\, die sich\, 
 wie er in Interviews sagte\, ´wie im Rausch schrieb´. Zum sechzigsten Ge
 burtstag lädt der Künstler Christian Aplanalp als einzigen Gast seinen J
 ugendfreund Artur Dold in sein Landhaus im irischen Donegal – dort gerä
 t die Welt aus dem Lot.\nUnerklärliche Dinge ereignen sich\, etwas versch
 windet\, taucht an anderer Stelle wieder auf\, Handschuhe lassen sich nich
 t mehr ausziehen\, es schneit und schneit\, Dold verbringt mit der Haushä
 lterin Bernadette eine Nacht\, die ihn an die Grenzen seiner Vernunft brin
 gt. Und als die beiden Freunde in der Geburtstagsnacht zuerst Absinth und 
 danach Opium konsumieren\, gerät die Welt vollends aus den Fugen\, Grenze
 n lösen sich auf und die Wirklichkeit ist nicht länger festzumachen. Wo 
 beginnt die Zukunft? Ist die Vergangenheit wirklich vergangen? „Hansjör
 g Schertenleibs neuster Streich ist starke Kost\, sprachlicher Hochgenuss 
 und herrliches Vergnügen. Ein dunkel irisierendes Kammerstück in einem a
 bgelegenen Landhaus im Norden Irlands. (Gallus Frei\, Literaturblatt).\n\n
 Freier Eintritt\, Kollekte\, Anmeldungen bis 28.10.22 an E-Mail&nbsp\; Pla
 tzzahl beschränkt!&nbsp\;
ATTACH;FMTTYPE=image/jpeg:https://www.qkk6.ch/wp-content/uploads/Hansjoerg
 -Schertenleib-2-e1655713671623.jpg
CATEGORIES:Lesung
LOCATION:Röslischüür\, Röslistrasse 9\, Zürich\, 8006\, Schweiz
GEO:47.388508;8.541154
X-APPLE-STRUCTURED-LOCATION;VALUE=URI;X-ADDRESS=Röslistrasse 9\, Zürich\,
  8006\, Schweiz;X-APPLE-RADIUS=100;X-TITLE=Röslischüür:geo:47.388508,8.
 541154
END:VEVENT
BEGIN:VTIMEZONE
TZID:Europe/Zurich
X-LIC-LOCATION:Europe/Zurich
BEGIN:DAYLIGHT
DTSTART:20220327T030000
TZOFFSETFROM:+0100
TZOFFSETTO:+0200
TZNAME:CEST
END:DAYLIGHT
END:VTIMEZONE
END:VCALENDAR