BEGIN:VCALENDAR
VERSION:2.0
PRODID:-//wp-events-plugin.com//7.2.3.1//EN
TZID:Europe/Zurich
X-WR-TIMEZONE:Europe/Zurich
BEGIN:VEVENT
UID:174@qkk6.ch
DTSTART;TZID=Europe/Zurich:20221028T200000
DTEND;TZID=Europe/Zurich:20221028T200000
DTSTAMP:20221020T134323Z
URL:https://www.qkk6.ch/events/2022/10/28/zuerich-liest-peter-k-wehrli-all
 es-von-allem/
SUMMARY:Wegen Erkrankung abgesagt: Zürich liest: Peter K. Wehrli "Alles vo
 n Allem"
DESCRIPTION:\nPeter K. Wehrli\n\nDer Schriftsteller Peter K. Wehrli nimmt d
 ie Zuhörer:innen&nbsp\; mit auf den abenteuerlichen Weg\, der von den fr
 ühen Reisetexten über die Performance „Alles von Allem“ bis zum imme
 r noch weiterwachsenden „Katalog von Allem“ führt.&nbsp\; DIe neueste
 n unter den 2807 Katalognummern registrieren die Verstörtheiten\, die jet
 zt vom Krieg in der Ukraine ausgelöst wurden.&nbsp\; Die frühen Dadaiste
 n von&nbsp\; 1916\, die Wehrli noch im alten Café Odeon traf\, haben ihn 
 gelehrt\, dass es die Gegensätze sind\, die unser Denken vital halten: 
 „oben und unten\, schwarz und weiss: Nichts und Alles“. Darauf weist a
 uch der neue Stadtführer „Zürcher Katalog“ hin und die „Agenda fü
 r Immer“.\nDeutschlandradio urteilt: „Dem Autor geht es darum\, besteh
 ende Werturteile und Sehraster aufzubrechen. Es ist die neugierige\, niema
 ls voyeuristische Perspektive des Schreibenden\, der über eigene Wahrnehm
 ungsweisen nachdenkt und dabei mitunter erschrickt oder von einem Grübeln
  ins andere verfällt“.&nbsp\;\n\nFreier Eintritt\, Kollekte\, Anmeldung
 en bis 27.10.22 an E-Mail&nbsp\; Platzzahl beschränkt!&nbsp\;
ATTACH;FMTTYPE=image/jpeg:https://www.qkk6.ch/wp-content/uploads/pkw-e1656
 667358546.jpg
CATEGORIES:Lesung
LOCATION:Röslischüür\, Röslistrasse 9\, Zürich\, 8006\, Schweiz
GEO:47.388508;8.541154
X-APPLE-STRUCTURED-LOCATION;VALUE=URI;X-ADDRESS=Röslistrasse 9\, Zürich\,
  8006\, Schweiz;X-APPLE-RADIUS=100;X-TITLE=Röslischüür:geo:47.388508,8.
 541154
END:VEVENT
BEGIN:VTIMEZONE
TZID:Europe/Zurich
X-LIC-LOCATION:Europe/Zurich
BEGIN:DAYLIGHT
DTSTART:20220327T030000
TZOFFSETFROM:+0100
TZOFFSETTO:+0200
TZNAME:CEST
END:DAYLIGHT
END:VTIMEZONE
END:VCALENDAR