BEGIN:VCALENDAR
VERSION:2.0
PRODID:-//wp-events-plugin.com//7.2.3.1//EN
TZID:Europe/Zurich
X-WR-TIMEZONE:Europe/Zurich
BEGIN:VEVENT
UID:170@qkk6.ch
DTSTART;TZID=Europe/Zurich:20220922T200000
DTEND;TZID=Europe/Zurich:20220922T200000
DTSTAMP:20220627T064057Z
URL:https://www.qkk6.ch/events/2022/09/22/ensemble-miroir-rueckkehr-einer-
 diva/
SUMMARY:Ensemble Miroir: Die Rückkehr einer Diva
DESCRIPTION:Ensemble Miroir: Die Rückkehr einer Diva\n\nAnnette Labusch\, 
 Sängerin\nClaire Genewein\, Flötistin\nStefi Spinas\, Pianistin\n\nSie r
 echnet ab mit verflossenen Liebhabern\, wankt in ihren Erinnerungen zwisch
 en Romantik und Zynismus\, erzählt herablassend aber bisweilen auch rühr
 selig von ihrem bewegten Leben und vor allem von den Männern\, die darin 
 vorkamen. Alkohol\, Nikotin und Eitelkeit verschleiern da so manche Erinne
 rung... Alle drei Musikerinnen stecken dabei in der Haut der Diva\, bespie
 geln die Figur von unterschiedlichen Seiten.\nGesäumt wird dieser Erinner
 ungs-Parkour\, wie bei Miroir üblich und bewährt\, von Musik aus untersc
 hiedlichen Genres: Songs und Chansons u.A. von F. Hollaender\, B. Joel\, B
 . Streisand\, P. Dessau\, sowie instrumentalen Stücken von Boulanger\, Be
 nnet u.v.A.\n\nFreier Eintritt\, Kollekte\, Anmeldung bis 21.9.22 an E-Mai
 l&nbsp\; Platzzahl beschränkt!
ATTACH;FMTTYPE=image/jpeg:https://www.qkk6.ch/wp-content/uploads/ensemble-
 e1653979882181.jpg
CATEGORIES:Lesung
LOCATION:Röslischüür\, Röslistrasse 9\, Zürich\, 8006\, Schweiz
GEO:47.388508;8.541154
X-APPLE-STRUCTURED-LOCATION;VALUE=URI;X-ADDRESS=Röslistrasse 9\, Zürich\,
  8006\, Schweiz;X-APPLE-RADIUS=100;X-TITLE=Röslischüür:geo:47.388508,8.
 541154
END:VEVENT
BEGIN:VTIMEZONE
TZID:Europe/Zurich
X-LIC-LOCATION:Europe/Zurich
BEGIN:DAYLIGHT
DTSTART:20220327T030000
TZOFFSETFROM:+0100
TZOFFSETTO:+0200
TZNAME:CEST
END:DAYLIGHT
END:VTIMEZONE
END:VCALENDAR