BEGIN:VCALENDAR
VERSION:2.0
PRODID:-//wp-events-plugin.com//7.2.3.1//EN
TZID:Europe/Zurich
X-WR-TIMEZONE:Europe/Zurich
BEGIN:VEVENT
UID:177@qkk6.ch
DTSTART;TZID=Europe/Zurich:20220921T200000
DTEND;TZID=Europe/Zurich:20220921T200000
DTSTAMP:20220805T133319Z
URL:https://www.qkk6.ch/events/2022/09/21/moerderisch-unterhaltsam-gabriel
 a-kasperski-und-eva-ashinze-im-gespraech/
SUMMARY:Mörderisch unterhaltsam: Gabriela Kasperski und Eva Ashinze im Ges
 präch
DESCRIPTION:Mörderisch unterhaltsam\nDie Krimi-Autorinnen Gabriela Kaspers
 ki und Eva Ashinze im Gespräch.\nGabriela Kasperskis Kriminalroman «Zür
 cher Filz» befasst sich u. a. mit der Wohnungsnot in Zürich: Eine Immobi
 lienerbin verschwindet spurlos. In ihrer Stiftung herrschen Korruption\, M
 ietwucher und unlautere Vergaben. Schnyder &amp\; Meier stürzen sich als 
 verdeckte Ermittler in die gnadenlose Jagd nach einer Wohnung – und stos
 sen auf Menschen\, die bereit sind\, dafür über Leichen zu gehen.\nMit 
 «Zürcher Filz» war Gabriela für den Schweizer und für den Zürcher Kr
 imipreis nominiert.\nEva Ashinze nimmt uns in ihrem historischen Kriminalr
 oman «Winterthur 1937» mit in eine Zeit\, in der die politische Lage in 
 der Schweiz von Unsicherheiten geprägt ist. Man geht gegen Faschisten und
  Kommunisten vor\, unterhält aber gleichzeitig diplomatische Beziehungen 
 zu Deutschland. Als nach einem Fussballländerspiel ein Deutscher tot aufg
 efunden wird\, müssen Korporal Wunderlin und der Gefreite Kern den Fall m
 öglichst schnell aufklären.\nEva Ashinze war mit «Winterthur 1937» fü
 r den Zürcher Krimipreis nominiert.\nMarco Caduff unterhält sich mit den
  Autorinnen über ihre Bücher\, ihre Themen\, ihr Leben. Sie lesen vor un
 d erzählen.\n\nFreier Eintritt\, Kollekte\, Anmeldung bis 20.9.22 an E-Ma
 il&nbsp\; Platzzahl beschränkt!
ATTACH;FMTTYPE=image/jpeg:https://www.qkk6.ch/wp-content/uploads/Eva-und-G
 abriela-1-e1659706106155.png
CATEGORIES:Lesung
LOCATION:Röslischüür\, Röslistrasse 9\, Zürich\, 8006\, Schweiz
GEO:47.388508;8.541154
X-APPLE-STRUCTURED-LOCATION;VALUE=URI;X-ADDRESS=Röslistrasse 9\, Zürich\,
  8006\, Schweiz;X-APPLE-RADIUS=100;X-TITLE=Röslischüür:geo:47.388508,8.
 541154
END:VEVENT
BEGIN:VTIMEZONE
TZID:Europe/Zurich
X-LIC-LOCATION:Europe/Zurich
BEGIN:DAYLIGHT
DTSTART:20220327T030000
TZOFFSETFROM:+0100
TZOFFSETTO:+0200
TZNAME:CEST
END:DAYLIGHT
END:VTIMEZONE
END:VCALENDAR