BEGIN:VCALENDAR
VERSION:2.0
PRODID:-//wp-events-plugin.com//7.2.3.1//EN
TZID:Europe/Zurich
X-WR-TIMEZONE:Europe/Zurich
BEGIN:VEVENT
UID:173@qkk6.ch
DTSTART;TZID=Europe/Zurich:20220906T200000
DTEND;TZID=Europe/Zurich:20220906T200000
DTSTAMP:20220708T062419Z
URL:https://www.qkk6.ch/events/2022/09/06/die-welt-heisst-brasilien-oder-i
 st-es-umgekehrt/
SUMMARY:Die Welt heisst Brasilien – oder ist es umgekehrt ?
DESCRIPTION:Die Welt heisst Brasilien – oder ist es umgekehrt ?\nEin Film
  von Peter K. Wehrli\n„Brasilien ist das einzige Land\, das dem Besucher
  den vollen Gegenwert gibt für alles\, das er hinbringt!“&nbsp\; So lau
 tet ein Liebesgeständnis des Schweizer Schriftsellers Blaise Cendrars an 
 Brasilien.&nbsp\; Die Sinnlichkeit der Tropen hat ihn geprägt\; er hat Br
 asilien zum Schauplatz seiner Romane gemacht.&nbsp\; Zudem hat er die&nbsp
 \; Künstler Brasiliens\, die Einflüsse aus Europa\, vorab aus Paris\, na
 chahmten\, auf ihre eigenen Wurzeln hingewiesen: auf die Kraft einer Misch
 kultur von Schwarzen\, Weissen\, Mestizen und Mulatten. Die Auswirkungen d
 ieser Impulse sind heute noch in Brasilien ablesbar. Sie wirken so heftig\
 , dass der bedeutende&nbsp\; brasilianische Schriftsteller Gilberto Freyre
  sagen konnte: „Dieser Schweizer hat die Brasilianer brasilianisiert!“
 \n\nFreier Eintritt\, Kollekte\, Anmeldung bis 5.9.22 an E-Mail&nbsp\; Pla
 tzzahl beschränkt!
ATTACH;FMTTYPE=image/jpeg:https://www.qkk6.ch/wp-content/uploads/PKW-Horta
 -2-rotated-e1656311721875.jpg
CATEGORIES:Film
LOCATION:Röslischüür\, Röslistrasse 9\, Zürich\, 8006\, Schweiz
GEO:47.388508;8.541154
X-APPLE-STRUCTURED-LOCATION;VALUE=URI;X-ADDRESS=Röslistrasse 9\, Zürich\,
  8006\, Schweiz;X-APPLE-RADIUS=100;X-TITLE=Röslischüür:geo:47.388508,8.
 541154
END:VEVENT
BEGIN:VTIMEZONE
TZID:Europe/Zurich
X-LIC-LOCATION:Europe/Zurich
BEGIN:DAYLIGHT
DTSTART:20220327T030000
TZOFFSETFROM:+0100
TZOFFSETTO:+0200
TZNAME:CEST
END:DAYLIGHT
END:VTIMEZONE
END:VCALENDAR