BEGIN:VCALENDAR
VERSION:2.0
PRODID:-//wp-events-plugin.com//7.2.3.1//EN
TZID:Europe/Zurich
X-WR-TIMEZONE:Europe/Zurich
BEGIN:VEVENT
UID:166@qkk6.ch
DTSTART;TZID=Europe/Zurich:20220525T200000
DTEND;TZID=Europe/Zurich:20220525T200000
DTSTAMP:20220329T071215Z
URL:https://www.qkk6.ch/events/2022/05/25/muttermal-und-augenweiss/
SUMMARY:Der alt Maa wird 70
DESCRIPTION:Der alt Maa wird 70-i:\nEine musikalische Lesung mit Heinz Wegm
 ann und Thierry Kuster\n\nVor genau 70 Jahren\, im Jahr 1952\, erschien Er
 nest Hemingways Meisterwerk «The old Man and the Sea» erstmals in englis
 cher Sprache.\nHeinz Wegmann hat die Nobelpreis-Geschichte ins heutige Zü
 richdeutsch übersetzt.\nDer Übersetzer liest aus seinem neuen Buch «Der
  alt Maa und s Meer» und erzählt aus dem Leben von Ernest Hemingway.\nTh
 ierry Kuster begleitet die Präsentation auf seinem Saxophon.\n\nEintritt 
 frei\, Kollekte. Anmeldung bis 23.5.2022 bei E-Mail
ATTACH;FMTTYPE=image/jpeg:https://www.qkk6.ch/wp-content/uploads/wegmann-s
 caled-e1635238514724.jpg
CATEGORIES:Lesung
LOCATION:Röslischüür\, Röslistrasse 9\, Zürich\, 8006\, Schweiz
GEO:47.388508;8.541154
X-APPLE-STRUCTURED-LOCATION;VALUE=URI;X-ADDRESS=Röslistrasse 9\, Zürich\,
  8006\, Schweiz;X-APPLE-RADIUS=100;X-TITLE=Röslischüür:geo:47.388508,8.
 541154
END:VEVENT
BEGIN:VTIMEZONE
TZID:Europe/Zurich
X-LIC-LOCATION:Europe/Zurich
BEGIN:DAYLIGHT
DTSTART:20220327T030000
TZOFFSETFROM:+0100
TZOFFSETTO:+0200
TZNAME:CEST
END:DAYLIGHT
END:VTIMEZONE
END:VCALENDAR