BEGIN:VCALENDAR
VERSION:2.0
PRODID:-//wp-events-plugin.com//7.2.3.1//EN
TZID:Europe/Zurich
X-WR-TIMEZONE:Europe/Zurich
BEGIN:VEVENT
UID:164@qkk6.ch
DTSTART;TZID=Europe/Zurich:20220519T200000
DTEND;TZID=Europe/Zurich:20220519T200000
DTSTAMP:20220208T085441Z
URL:https://www.qkk6.ch/events/2022/05/19/and-then-i-wrote-poetry-goes-jaz
 z/
SUMMARY:„And then I wrote“ Poetry goes Jazz
DESCRIPTION:SONJA INDIN &amp\; BAND\n„AND THEN I WROTE“ POETRY GOES JAZ
 Z\nIm aktuellen Projekt „And then I wrote“ kombiniert Sonja Indin die 
 Kraft der Poesie mit dem Zauber der Jazz Harmonik. Zu hören sind mondäne
  Melodien\, Dichtkunst und eine eingespielte Band. Und natürlich: pikante
  Poesie.\n„And then I wrote“ benannt nach dem Standard von George Shea
 ring. Sich hinsetzen und Worte oder Noten niederschreiben...\nIm Projekt v
 on Sonja Indin sind dies dreierlei:\n1. Songs zur Mutterrolle verfassen.\n
 2. Gedichte von Dichterinnen vertonen.\n3. Zu Jazzstandards Texte ergänze
 n.\n\nSonja Indin:&nbsp\;&nbsp\;&nbsp\;&nbsp\;&nbsp\;&nbsp\;&nbsp\; Gesang
 \, Komposition\nRoman Tulei:&nbsp\;&nbsp\;&nbsp\;&nbsp\;&nbsp\; Klavier\, 
 Komposition\nFridolin Blumer:&nbsp\; Kontrabass\nPeter Preibisch:&nbsp\; S
 chlagzeug\n\nwww.sonjaindin.com\n\nEintritt frei\, Kollekte\nMit Anmeldung
  bis 18.05.22 E-Mail
ATTACH;FMTTYPE=image/jpeg:https://www.qkk6.ch/wp-content/uploads/751A7703-
 Edit-scaled-e1644310421986.jpg
CATEGORIES:Konzert,Lesung
LOCATION:Röslischüür\, Röslistrasse 9\, Zürich\, 8006\, Schweiz
GEO:47.388508;8.541154
X-APPLE-STRUCTURED-LOCATION;VALUE=URI;X-ADDRESS=Röslistrasse 9\, Zürich\,
  8006\, Schweiz;X-APPLE-RADIUS=100;X-TITLE=Röslischüür:geo:47.388508,8.
 541154
END:VEVENT
BEGIN:VTIMEZONE
TZID:Europe/Zurich
X-LIC-LOCATION:Europe/Zurich
BEGIN:DAYLIGHT
DTSTART:20220327T030000
TZOFFSETFROM:+0100
TZOFFSETTO:+0200
TZNAME:CEST
END:DAYLIGHT
END:VTIMEZONE
END:VCALENDAR