BEGIN:VCALENDAR
VERSION:2.0
PRODID:-//wp-events-plugin.com//7.2.3.1//EN
TZID:Europe/Zurich
X-WR-TIMEZONE:Europe/Zurich
BEGIN:VEVENT
UID:168@qkk6.ch
DTSTART;TZID=Europe/Zurich:20220516T200000
DTEND;TZID=Europe/Zurich:20220516T200000
DTSTAMP:20220410T135446Z
URL:https://www.qkk6.ch/events/2022/05/16/lesung-mit-peter-stamm/
SUMMARY:Peter Stamm erzählt
DESCRIPTION:Peter Stamm erzählt\nPeter Stamm\, zweifellos eine der markant
 esten Figuren der zeitgenössischen Schweizer Literatur\, liest frühe und
  neueste Erzählungen. So lässt sich der Bogen seiner Entwicklung spannun
 gsreich erkennen. Der Rezensent der „Frankfurter Allgemeinen“ ist von 
 Stamms Erzählkunst begeistert\, er schreibt: “Wer einmal eine Erzählun
 g von Peter Stamm gelesen hat\, wird sie nie wieder vergessen“.\nDies ge
 schieht wohl noch intensiver\, wenn man die Texte vom Autor selber vorgele
 sen bekommt.\nEr selber präsentiert uns das Personal seines neuen Erzähl
 bandes „Wenn es dunkel wird“ mit den Worten:\n„... elf Geschichten\,
  die in den letzten Jahren entstanden sind und in denen wir einer Krankens
 chwester und einem Kunstsammler begegnen\, einer Grafikerin und einem Wahr
 sager\, einem Dendrochronologen und einer Polizistin\, einem Mann\, der si
 ch in Luft auflöst und einer Frau\, die keinen Schmerz empfindet\, einem 
 Bankräuber und einer lebendigen Statue. Geschichten über Verwandlungen u
 nd das Verschwinden in einer Welt\, in der es dunkel wird“.\n\nFreier Ei
 ntritt\, Kollekte\, Anmeldung bis 15.5. an E-Mail&nbsp\; Platzzahl beschr
 änkt!
ATTACH;FMTTYPE=image/jpeg:https://www.qkk6.ch/wp-content/uploads/Peter-Sta
 mm-e1648548017893.png
CATEGORIES:Lesung
LOCATION:Röslischüür\, Röslistrasse 9\, Zürich\, 8006\, Schweiz
GEO:47.388508;8.541154
X-APPLE-STRUCTURED-LOCATION;VALUE=URI;X-ADDRESS=Röslistrasse 9\, Zürich\,
  8006\, Schweiz;X-APPLE-RADIUS=100;X-TITLE=Röslischüür:geo:47.388508,8.
 541154
END:VEVENT
BEGIN:VTIMEZONE
TZID:Europe/Zurich
X-LIC-LOCATION:Europe/Zurich
BEGIN:DAYLIGHT
DTSTART:20220327T030000
TZOFFSETFROM:+0100
TZOFFSETTO:+0200
TZNAME:CEST
END:DAYLIGHT
END:VTIMEZONE
END:VCALENDAR