BEGIN:VCALENDAR
VERSION:2.0
PRODID:-//wp-events-plugin.com//7.2.3.1//EN
TZID:Europe/Zurich
X-WR-TIMEZONE:Europe/Zurich
BEGIN:VEVENT
UID:167@qkk6.ch
DTSTART;TZID=Europe/Zurich:20220504T200000
DTEND;TZID=Europe/Zurich:20220504T200000
DTSTAMP:20220312T102314Z
URL:https://www.qkk6.ch/events/2022/05/04/bennys-from-heaven/
SUMMARY:Benny's from heaven
DESCRIPTION:Benny`s from heaven\n«Benny’s from Heaven» ist zweideutig z
 u interpretieren\, zum einen ist der Bandname eine Anspielung an den Jazzs
 ong und den gleichnamigen Film «Pennies from Heaven» von und mit Bing Cr
 osby. Zum anderen war Benny Goodman der King of Swing\, und dem Repertoire
 \, welches er zu spielen pflegte\,hat sich diese Band mit grosser Leidensc
 haft verschrieben\, um diese grossartige Musik wieder aufleben zu lassen. 
 Unvergessliche Nummern wie «Stompin’ at the Savoy»\, «Lady Be Good»\
 , «Memories of You» und viele mehr. Ein Ohrenschmaus der Extraklasse\, l
 et’s dance!\nhttps://soundcloud.com/simon-wyrsch/flying-home\n\nSimon Wy
 rsch&nbsp\;&nbsp\; clarinet\nDave Ruosch&nbsp\;&nbsp\; &nbsp\; piano\nKall
 i Gerhards&nbsp\; &nbsp\; bass\nMartin Meyer&nbsp\;&nbsp\;&nbsp\; drums\n\
 nFreier Eintritt\, Kollekte\, Anmeldung bis 3.5. an E-Mail
ATTACH;FMTTYPE=image/jpeg:https://www.qkk6.ch/wp-content/uploads/9R3A1599S
 epia-scaled-e1647080365921.jpg
CATEGORIES:Konzert,Lesung
LOCATION:Röslischüür\, Röslistrasse 9\, Zürich\, 8006\, Schweiz
GEO:47.388508;8.541154
X-APPLE-STRUCTURED-LOCATION;VALUE=URI;X-ADDRESS=Röslistrasse 9\, Zürich\,
  8006\, Schweiz;X-APPLE-RADIUS=100;X-TITLE=Röslischüür:geo:47.388508,8.
 541154
END:VEVENT
BEGIN:VTIMEZONE
TZID:Europe/Zurich
X-LIC-LOCATION:Europe/Zurich
BEGIN:DAYLIGHT
DTSTART:20220327T030000
TZOFFSETFROM:+0100
TZOFFSETTO:+0200
TZNAME:CEST
END:DAYLIGHT
END:VTIMEZONE
END:VCALENDAR