BEGIN:VCALENDAR
VERSION:2.0
PRODID:-//wp-events-plugin.com//7.2.3.1//EN
TZID:Europe/Zurich
X-WR-TIMEZONE:Europe/Zurich
BEGIN:VEVENT
UID:161@qkk6.ch
DTSTART;TZID=Europe/Zurich:20220502T200000
DTEND;TZID=Europe/Zurich:20220502T200000
DTSTAMP:20220329T115041Z
URL:https://www.qkk6.ch/events/2022/05/02/filmabend-mit-karin-weissberg/
SUMMARY:Von Vagabunden und Immigranten
DESCRIPTION:Eine Hommage an Charlie Chaplin\nEin altes paar Schuhe\, eine z
 u grosse Hose\, ein falscher Bart - der von Charlie Chaplin entwickelte "T
 ramp" - Charakter erobert die Leinwand!\nZu sehen in den zwei Kurzfilmen "
 The Vagabond" (1916) und "The Immigrant" (1917)\, am Klavier begleitet von
  Karin Weissberg.\nDazwischen sind Original-Filmmusik Stücke von Chaplin 
 zu hören\, interpretiert von Daniel Schneider und Karin Weissberg.\n\nDan
 iel Schneider &nbsp\;&nbsp\;&nbsp\;&nbsp\; Klarinette\nKarin Weissberg &nb
 sp\;&nbsp\;&nbsp\;&nbsp\;&nbsp\; Klavier\n\nEintritt frei\, Kollekte&nbsp\
 ;\n\nReservation:&nbsp\; 044 361 80 51 oder tickets@theater-rigiblick.ch
ATTACH;FMTTYPE=image/jpeg:https://www.qkk6.ch/wp-content/uploads/Chaplin-e
 1642240253381.jpg
CATEGORIES:Lesung
LOCATION:Theater Rigiblick\, Germaniastrasse 99\, Zürich\, 8044\, Schweiz
GEO:47.388274;8.553456
X-APPLE-STRUCTURED-LOCATION;VALUE=URI;X-ADDRESS=Germaniastrasse 99\, Züric
 h\, 8044\, Schweiz;X-APPLE-RADIUS=100;X-TITLE=Theater Rigiblick:geo:47.388
 274,8.553456
END:VEVENT
BEGIN:VTIMEZONE
TZID:Europe/Zurich
X-LIC-LOCATION:Europe/Zurich
BEGIN:DAYLIGHT
DTSTART:20220327T030000
TZOFFSETFROM:+0100
TZOFFSETTO:+0200
TZNAME:CEST
END:DAYLIGHT
END:VTIMEZONE
END:VCALENDAR