BEGIN:VCALENDAR
VERSION:2.0
PRODID:-//wp-events-plugin.com//7.2.3.1//EN
TZID:Europe/Zurich
X-WR-TIMEZONE:Europe/Zurich
BEGIN:VEVENT
UID:162@qkk6.ch
DTSTART;TZID=Europe/Zurich:20220408T200000
DTEND;TZID=Europe/Zurich:20220408T200000
DTSTAMP:20220307T091636Z
URL:https://www.qkk6.ch/events/2022/04/08/blaubarts-cox/
SUMMARY:Blaubarts COX 
DESCRIPTION:Blaubarts COX&nbsp\;&nbsp\;\nEin musikalisch literarischer Aben
 d über die Vergänglichkeit&nbsp\;\nMit Kompositionen aus dem 20. Jahrhun
 dert&nbsp\;und Eigenkreationen von Blaubart. Versponnen mit einer Lesung a
 us dem&nbsp\;wundersamen Roman von&nbsp\;Christoph Ransmayr:&nbsp\;Cox ode
 r der Lauf der Zeit.\nDer mächtigste Mann der Welt\, Qiánlóng\, Kaiser 
 von China\, lädt den englischen Automatenbauer und Uhrmacher Alister Cox 
 an seinen Hof. Der Meister aus London soll in der Verbotenen Stadt Uhren b
 auen\, an denen die unterschiedlichen Geschwindigkeiten der Zeiten des Gl
 ücks\, der Kindheit\, der Liebe\, auch von Krankheit und Sterben abzulese
 n sind…\nWeitere Informationen zu Lesung und Musik:&nbsp\;blaubart-musik
 .ch&nbsp\;\n\nBlaubart:&nbsp\;Christian Strässle (Violine und Erzähler)\
 , Chris Wirth (Klarinetten) und&nbsp\;Manuela Keller (Piano und&nbsp\;Ther
 emin*)\n\n*Es wurde 1920 vom russischen Physiker Leon Theremin erfunden un
 d war eines der ersten elektronischen Instrumente.&nbsp\;\n\nFreier Eintri
 tt\, Kollekte\, Anmeldung bis 7.4. an E-Mail
ATTACH;FMTTYPE=image/jpeg:https://www.qkk6.ch/wp-content/uploads/Blaubart-
 001-scaled-e1643720160662.jpg
CATEGORIES:Konzert,Lesung
LOCATION:Röslischüür\, Röslistrasse 9\, Zürich\, 8006\, Schweiz
GEO:47.388508;8.541154
X-APPLE-STRUCTURED-LOCATION;VALUE=URI;X-ADDRESS=Röslistrasse 9\, Zürich\,
  8006\, Schweiz;X-APPLE-RADIUS=100;X-TITLE=Röslischüür:geo:47.388508,8.
 541154
END:VEVENT
BEGIN:VTIMEZONE
TZID:Europe/Zurich
X-LIC-LOCATION:Europe/Zurich
BEGIN:DAYLIGHT
DTSTART:20220327T030000
TZOFFSETFROM:+0100
TZOFFSETTO:+0200
TZNAME:CEST
END:DAYLIGHT
END:VTIMEZONE
END:VCALENDAR