BEGIN:VCALENDAR
VERSION:2.0
PRODID:-//wp-events-plugin.com//7.2.3.1//EN
TZID:Europe/Zurich
X-WR-TIMEZONE:Europe/Zurich
BEGIN:VEVENT
UID:160@qkk6.ch
DTSTART;TZID=Europe/Zurich:20220117T200000
DTEND;TZID=Europe/Zurich:20220117T200000
DTSTAMP:20211112T163825Z
URL:https://www.qkk6.ch/events/2022/01/17/alma-misia-was-tut-man-nicht-all
 es-fuer-ein-genie/
SUMMARY:Alma & Misia: Was tut man nicht alles für ein Genie
DESCRIPTION:Alma &amp\; Misia: Was tut man nicht alles für ein Genie\n«Di
 e Frauen» Alma Mahler-Gropius-Werfel und Misia Nathanson-Edwards-Sert erz
 ählen sich in einer fiktiven Begegnung ihre aussergewöhnlichen Lebensges
 chichten.\nAls Zeitzeuginnen und Protagonistinnen des kulturellen Lebens i
 m Wien und Paris der Belle Epoque halten sie Rückschau.\n«Der Mann» ski
 zziert in Sequenzen das Verhältnis der jeweiligen Ehemänner oder Geliebt
 en zu den beiden Frauen und zitiert dazu u.a. Gustav Mahler\, Oskar Kokosc
 hka\, A. G. Gropius und Franz Werfel.\n\nAlma Mahler und Misia Sert. Eine 
 szenische Lesung von Ruth Werfel mit Graziella Rossi\, Pia Waibel und Helm
 ut Vogel\n\nEintritt: 35.--/30.--\, Reservation 044 361 80 51 oder tickets
 @theater-rigiblick.ch
ATTACH;FMTTYPE=image/jpeg:https://www.qkk6.ch/wp-content/uploads/werfel-e1
 636735050330.png
CATEGORIES:Lesung
LOCATION:Theater Rigiblick\, Germaniastrasse 99\, Zürich\, 8044\, Schweiz
GEO:47.388274;8.553456
X-APPLE-STRUCTURED-LOCATION;VALUE=URI;X-ADDRESS=Germaniastrasse 99\, Züric
 h\, 8044\, Schweiz;X-APPLE-RADIUS=100;X-TITLE=Theater Rigiblick:geo:47.388
 274,8.553456
END:VEVENT
BEGIN:VTIMEZONE
TZID:Europe/Zurich
X-LIC-LOCATION:Europe/Zurich
BEGIN:STANDARD
DTSTART:20211031T020000
TZOFFSETFROM:+0200
TZOFFSETTO:+0100
TZNAME:CET
END:STANDARD
END:VTIMEZONE
END:VCALENDAR