BEGIN:VCALENDAR
VERSION:2.0
PRODID:-//wp-events-plugin.com//7.2.3.1//EN
TZID:Europe/Zurich
X-WR-TIMEZONE:Europe/Zurich
BEGIN:VEVENT
UID:158@qkk6.ch
DTSTART;TZID=Europe/Zurich:20220107T200000
DTEND;TZID=Europe/Zurich:20220107T200000
DTSTAMP:20220106T144920Z
URL:https://www.qkk6.ch/events/2022/01/07/musikalische-lesung-mit-heinz-we
 gmann-und-thierry-kuster/
SUMMARY:Abgesagt: Muttermal und Augenweiss
DESCRIPTION:Eine musikalische Lesung mit Heinz Wegmann und Thierry Kuster\n
 \nHeinz Wegmann liest aus seinem neuen Buch «Muttermal und Augenweiss».\
 nEs ist die Rede von Twitterern\, Veganern und ganz normalen Menschen.\nHe
 inz Wegmann beobachtet scharf und hält unbarmherzig fest.\nSo ist ein gan
 zes Album von «Smarten Sprachpics» entstanden: prägnante\, hochkonzentr
 ierte Szenen aus dem Alltag\, wie mit der Smartphone-Kamera geschossen und
  anschliessend sorgsam und nachhaltig bearbeitet.\nThierry Kuster begleite
 t ihn auf seinem swingenden Saxophon und seiner sanften Querflöte.\n\nEin
 tritt frei\, Kollekte. Nur mit Anmeldung bis 5.1.2022 bei E-Mail\n\nEinlas
 s nur mit Covid-Zertifikat und Ausweis. Es gilt Maskenpflicht.
ATTACH;FMTTYPE=image/jpeg:https://www.qkk6.ch/wp-content/uploads/wegmann-s
 caled-e1635238514724.jpg
CATEGORIES:Lesung
LOCATION:Röslischüür\, Röslistrasse 9\, Zürich\, 8006\, Schweiz
GEO:47.388508;8.541154
X-APPLE-STRUCTURED-LOCATION;VALUE=URI;X-ADDRESS=Röslistrasse 9\, Zürich\,
  8006\, Schweiz;X-APPLE-RADIUS=100;X-TITLE=Röslischüür:geo:47.388508,8.
 541154
END:VEVENT
BEGIN:VTIMEZONE
TZID:Europe/Zurich
X-LIC-LOCATION:Europe/Zurich
BEGIN:STANDARD
DTSTART:20211031T020000
TZOFFSETFROM:+0200
TZOFFSETTO:+0100
TZNAME:CET
END:STANDARD
END:VTIMEZONE
END:VCALENDAR