BEGIN:VCALENDAR
VERSION:2.0
PRODID:-//wp-events-plugin.com//7.2.3.1//EN
TZID:Europe/Zurich
X-WR-TIMEZONE:Europe/Zurich
BEGIN:VEVENT
UID:141@qkk6.ch
DTSTART;TZID=Europe/Zurich:20211213T200000
DTEND;TZID=Europe/Zurich:20211213T211500
DTSTAMP:20211103T102307Z
URL:https://www.qkk6.ch/events/2021/12/13/stummfilm-nanok-of-the-north-nan
 uk-der-eskimo/
SUMMARY:Stummfilm Nanok of the North - Nanuk\, der Eskimo
DESCRIPTION:Nanok of the North - Nanuk\, der Eskimo \nRobert Flaherty\, Kar
 in Weissberg\n\n\nHerzliche Einladung zu diesem Klassiker des Dokumentarfi
 lms und zugleich dem ersten grossen Film\, der in der Arktis gedreht wurde
 .\n\nNanook of the North - Nanuk\, der Eskimo Stummfilm (USA) von Robert F
 laherty aus dem Jahr 1922&nbsp\; am Klavier begleitet von Karin Weissberg.
  Auch fast hundert Jahre nach der Uraufführung ist «Nanuk\, der Eskimo»
  ein bewegendes Dokument vom Leben der Inuit im Norden Kanadas: sie wohnen
  in Iglus\, die sie aus Schneeblöcken bauen\, sie jagen ihre Hauptnahrung
  - Walrosse\, Fische und Robben - mit Harpunen. Trotz aller Kargheit des L
 ebens wirken Nanuk und seine Familie glücklich.\n\nKollekte\n\n&nbsp\;Res
 ervation: 044 361 80 51 oder tickets@theater-rigiblick.ch
ATTACH;FMTTYPE=image/jpeg:https://www.qkk6.ch/wp-content/uploads/17660629_
 401.jpg
CATEGORIES:Film
LOCATION:Theater Rigiblick\, Germaniastrasse 99\, Zürich\, 8044\, Schweiz
GEO:47.388274;8.553456
X-APPLE-STRUCTURED-LOCATION;VALUE=URI;X-ADDRESS=Germaniastrasse 99\, Züric
 h\, 8044\, Schweiz;X-APPLE-RADIUS=100;X-TITLE=Theater Rigiblick:geo:47.388
 274,8.553456
END:VEVENT
BEGIN:VTIMEZONE
TZID:Europe/Zurich
X-LIC-LOCATION:Europe/Zurich
BEGIN:STANDARD
DTSTART:20211031T020000
TZOFFSETFROM:+0200
TZOFFSETTO:+0100
TZNAME:CET
END:STANDARD
END:VTIMEZONE
END:VCALENDAR