BEGIN:VCALENDAR
VERSION:2.0
PRODID:-//wp-events-plugin.com//7.2.3.1//EN
TZID:Europe/Zurich
X-WR-TIMEZONE:Europe/Zurich
BEGIN:VEVENT
UID:159@qkk6.ch
DTSTART;TZID=Europe/Zurich:20211205T160000
DTEND;TZID=Europe/Zurich:20211205T160000
DTSTAMP:20211203T155016Z
URL:https://www.qkk6.ch/events/2021/12/05/spaziergang-durch-das-jahr-mit-r
 enate-hochholzer/
SUMMARY:Abgesagt: Spaziergang durch das Jahr mit Renate Hochholzer
DESCRIPTION:Spaziergang durch das Jahr: Gedichte und Kurzgeschichten\nLesun
 g und Gespräch mit Renate Hochholzer\n\nRenate Hochholzer erzählt\, wie 
 sie selbst zum Schreiben gekommen ist\, liest einige ihrer Gedichte und au
 tobiografischen Kurzgeschichten und will uns ermuntern\, selbst auch einma
 l einfach "drauflos" zu schreiben\, um Eindrücke\, Erinnerungen\, Erlebte
 s festzuhalten.\n\nNur mit Covid-Zertifikat. Es gilt Maskenpflicht.\n&nbsp
 \;
ATTACH;FMTTYPE=image/jpeg:https://www.qkk6.ch/wp-content/uploads/Baum-farb
 ig-e1635881381958.jpg
CATEGORIES:Lesung
LOCATION:Röslischüür\, Röslistrasse 9\, Zürich\, 8006\, Schweiz
GEO:47.388508;8.541154
X-APPLE-STRUCTURED-LOCATION;VALUE=URI;X-ADDRESS=Röslistrasse 9\, Zürich\,
  8006\, Schweiz;X-APPLE-RADIUS=100;X-TITLE=Röslischüür:geo:47.388508,8.
 541154
END:VEVENT
BEGIN:VTIMEZONE
TZID:Europe/Zurich
X-LIC-LOCATION:Europe/Zurich
BEGIN:STANDARD
DTSTART:20211031T020000
TZOFFSETFROM:+0200
TZOFFSETTO:+0100
TZNAME:CET
END:STANDARD
END:VTIMEZONE
END:VCALENDAR