BEGIN:VCALENDAR
VERSION:2.0
PRODID:-//wp-events-plugin.com//7.2.3.1//EN
TZID:Europe/Zurich
X-WR-TIMEZONE:Europe/Zurich
BEGIN:VEVENT
UID:157@qkk6.ch
DTSTART;TZID=Europe/Zurich:20211126T200000
DTEND;TZID=Europe/Zurich:20211126T200000
DTSTAMP:20211123T092549Z
URL:https://www.qkk6.ch/events/2021/11/26/maerlifueuer-in-der-roeslischueu
 er/
SUMMARY:Märlifüür in der Röslischüür abgesagt
DESCRIPTION:Märlifüür in der Röslischüür\nEine Erzählstunde für Erw
 achsene in Mundart und Hochdeutsch\nZum Nachdenken über den Frieden\, Tr
 äumen\, Schmunzeln\n\nLassen Sie sich entführen in die "Anderswelt"!\n\n
 Erzählerinnen:\nAnnette Gallmann\, Therese Gilg\, Christine Reckhaus\n\nE
 intritt frei\, Kollekte. Platzzahl beschränkt. Nur mit Covid-Zertifikat. 
 SMS Anmeldung bis 25.11.21 an 079 524 18 44\n\n
ATTACH;FMTTYPE=image/jpeg:https://www.qkk6.ch/wp-content/uploads/maerli.jp
 g
CATEGORIES:Lesung
LOCATION:Röslischüür\, Röslistrasse 9\, Zürich\, 8006\, Schweiz
GEO:47.388508;8.541154
X-APPLE-STRUCTURED-LOCATION;VALUE=URI;X-ADDRESS=Röslistrasse 9\, Zürich\,
  8006\, Schweiz;X-APPLE-RADIUS=100;X-TITLE=Röslischüür:geo:47.388508,8.
 541154
END:VEVENT
BEGIN:VTIMEZONE
TZID:Europe/Zurich
X-LIC-LOCATION:Europe/Zurich
BEGIN:STANDARD
DTSTART:20211031T020000
TZOFFSETFROM:+0200
TZOFFSETTO:+0100
TZNAME:CET
END:STANDARD
END:VTIMEZONE
END:VCALENDAR