BEGIN:VCALENDAR
VERSION:2.0
PRODID:-//wp-events-plugin.com//7.2.3.1//EN
TZID:Europe/Zurich
X-WR-TIMEZONE:Europe/Zurich
BEGIN:VEVENT
UID:10@qkk6.ch
DTSTART;TZID=Europe/Zurich:20211115T200000
DTEND;TZID=Europe/Zurich:20211115T200000
DTSTAMP:20210902T093420Z
URL:https://www.qkk6.ch/events/2021/11/15/balladen-im-theater-rigiblick-2/
SUMMARY:Im Chansonrausch
DESCRIPTION:Im Chansonrausch\nElegant\, verführerisch\, mit einem Hauch vo
 n Glamour und Verruchtheit\, stets verbunden mit einem feinen Humor\, der 
 diese andere\, erträgliche Sicht auf die Welt vermittelt. Voll schalkhaft
 er Melancholie beschwört Lisa Berg mit ihrer berührenden\, strahlenden C
 hansonstimme Alltagstragödien\, Frühlingsidyllen und Rauschzustände. Di
 e heimliche Königin des deutschen Chansons&nbsp\; steht in einer langen T
 radition grosser Namen: Edith Piaf\, Paul Burkhard oder Georg Kreisler\, a
 lle haben bei ihr ihre unverkennbaren Spuren hinterlassen\, insbesondere a
 uch ihre Mentorin Topsy Küppers.\nAm Klavier begleitet sie ihr kongeniale
 r Songschreiber-Partner David Ruosch\, einer der gefragtesten Jazz- und Bl
 uespianisten der Schweiz und Dozent an der Zürcher Hochschule der Künste
 \, auf der Geige Christian Strässle\, der in seinem Spiel virtuose Violin
 technik mit einfühlsamer Begleitung verbindet.\n\nGesang &nbsp\;&nbsp\;&n
 bsp\;&nbsp\;&nbsp\;&nbsp\;&nbsp\;&nbsp\;&nbsp\;&nbsp\;&nbsp\;&nbsp\;&nbsp\
 ;&nbsp\; Lisa Berg (www.lisaberg.ch)\nKlavier &nbsp\; &nbsp\; &nbsp\; &nbs
 p\; &nbsp\; &nbsp\; &nbsp\; &nbsp\; David Ruosch&nbsp\; &nbsp\; &nbsp\; &n
 bsp\; &nbsp\; &nbsp\;&nbsp\;&nbsp\;&nbsp\;&nbsp\;&nbsp\;\nVioline &nbsp\; 
 &nbsp\; &nbsp\; &nbsp\; &nbsp\; &nbsp\; &nbsp\; &nbsp\; Christian Strässl
 e\n\nEintritt: 35.--/30.--\, Reservation 044 361 80 51 oder tickets@theate
 r-rigiblick.ch
ATTACH;FMTTYPE=image/jpeg:https://www.qkk6.ch/wp-content/uploads/Lisa-Berg
 -002-e1607246684949.jpeg
CATEGORIES:Konzert
LOCATION:Theater Rigiblick\, Germaniastrasse 99\, Zürich\, 8044\, Schweiz
GEO:47.388274;8.553456
X-APPLE-STRUCTURED-LOCATION;VALUE=URI;X-ADDRESS=Germaniastrasse 99\, Züric
 h\, 8044\, Schweiz;X-APPLE-RADIUS=100;X-TITLE=Theater Rigiblick:geo:47.388
 274,8.553456
END:VEVENT
BEGIN:VTIMEZONE
TZID:Europe/Zurich
X-LIC-LOCATION:Europe/Zurich
BEGIN:STANDARD
DTSTART:20211031T020000
TZOFFSETFROM:+0200
TZOFFSETTO:+0100
TZNAME:CET
END:STANDARD
END:VTIMEZONE
END:VCALENDAR