BEGIN:VCALENDAR
VERSION:2.0
PRODID:-//wp-events-plugin.com//7.2.3.1//EN
TZID:Europe/Zurich
X-WR-TIMEZONE:Europe/Zurich
BEGIN:VEVENT
UID:155@qkk6.ch
DTSTART;TZID=Europe/Zurich:20211031T180000
DTEND;TZID=Europe/Zurich:20211031T180000
DTSTAMP:20210819T113658Z
URL:https://www.qkk6.ch/events/2021/10/31/lesung-mit-christian-haller/
SUMMARY:Lesung mit Christian Haller
DESCRIPTION:\nFlussabwärts gegen den Strom \nWie man seine Bestimmung find
 et: der neue grosse Roman von Christian Haller\n\nDer Damm ist gebrochen\,
  der Fluss des Lebens trägt Christian Haller näher an seine Bestimmung h
 eran. Aus dem jungen Mann\, der den Weg suchte\, "den es nicht gab und den
  er dennoch gehen wollte"\,&nbsp\;ist ein Schriftsteller geworden. Durch W
 iderstände\, Schicksals- und Rückschläge eröffnen sich ihm zunächst n
 eue Lebens- und Arbeitsbereiche. Er aber muss kämpfen gegen finanzielle N
 öte\, gegen Ablehnung und für die Anerkennung seiner Arbeit. Doch schrei
 bend gelangt er an sein Ziel: In der Erkundung seiner Herkunft\, jener Ein
 schläge&nbsp\;des&nbsp\;20. Jahrhunderts\, die die Wege seiner Familie be
 stimmten\, tritt allmählich das erzählende Ich hervor. Und mit ihm die F
 rage\, wie der Untergrund des Lebens tatsächlich beschaffen ist.\n\n&nbsp
 \;\n\nEintritt frei\, Kollekte. Nur mit Anmeldung bis 29.10.21 bei E-Mail\
 n
ATTACH;FMTTYPE=image/jpeg:https://www.qkk6.ch/wp-content/uploads/hallerbuc
 h-e1628688024305.png
CATEGORIES:Lesung
LOCATION:Röslischüür\, Röslistrasse 9\, Zürich\, 8006\, Schweiz
GEO:47.388508;8.541154
X-APPLE-STRUCTURED-LOCATION;VALUE=URI;X-ADDRESS=Röslistrasse 9\, Zürich\,
  8006\, Schweiz;X-APPLE-RADIUS=100;X-TITLE=Röslischüür:geo:47.388508,8.
 541154
END:VEVENT
BEGIN:VTIMEZONE
TZID:Europe/Zurich
X-LIC-LOCATION:Europe/Zurich
BEGIN:STANDARD
DTSTART:20211031T020000
TZOFFSETFROM:+0200
TZOFFSETTO:+0100
TZNAME:CET
END:STANDARD
END:VTIMEZONE
END:VCALENDAR