BEGIN:VCALENDAR
VERSION:2.0
PRODID:-//wp-events-plugin.com//7.2.3.1//EN
TZID:Europe/Zurich
X-WR-TIMEZONE:Europe/Zurich
BEGIN:VEVENT
UID:153@qkk6.ch
DTSTART;TZID=Europe/Zurich:20211029T200000
DTEND;TZID=Europe/Zurich:20211029T200000
DTSTAMP:20210825T084336Z
URL:https://www.qkk6.ch/events/2021/10/29/lesung-mit-peter-k-wehrli/
SUMMARY:Lesung mit Peter K. Wehrli
DESCRIPTION:\nPeter K. Wehrli: «was ich nicht habe\, schreibe ich mir herb
 ei».\nDer Autor gibt Einblick in seine Werkstatt. Von den präzisen Aphor
 ismen über die Novelle „Tingeltangel“ bis zu den fotografischen Eindr
 ücken im „Katalog von Allem“ reicht die Bandbreite von Peter K. Wehrl
 is literarischem Tun:\n„Wenn ich Abenteuer erleben will\, mache ich mich
  an die Arbeit"\n\n\nEintritt frei\, Kollekte. Nur mit Anmeldung bis 27.10
 .21 bei E-Mail\n
ATTACH;FMTTYPE=image/jpeg:https://www.qkk6.ch/wp-content/uploads/pkwkleine
 r-e1626338620582.png
CATEGORIES:Lesung
LOCATION:Röslischüür\, Röslistrasse 9\, Zürich\, 8006\, Schweiz
GEO:47.388508;8.541154
X-APPLE-STRUCTURED-LOCATION;VALUE=URI;X-ADDRESS=Röslistrasse 9\, Zürich\,
  8006\, Schweiz;X-APPLE-RADIUS=100;X-TITLE=Röslischüür:geo:47.388508,8.
 541154
END:VEVENT
BEGIN:VTIMEZONE
TZID:Europe/Zurich
X-LIC-LOCATION:Europe/Zurich
BEGIN:DAYLIGHT
DTSTART:20210328T030000
TZOFFSETFROM:+0100
TZOFFSETTO:+0200
TZNAME:CEST
END:DAYLIGHT
END:VTIMEZONE
END:VCALENDAR