BEGIN:VCALENDAR
VERSION:2.0
PRODID:-//wp-events-plugin.com//7.2.3.1//EN
TZID:Europe/Zurich
X-WR-TIMEZONE:Europe/Zurich
BEGIN:VEVENT
UID:152@qkk6.ch
DTSTART;TZID=Europe/Zurich:20211028T200000
DTEND;TZID=Europe/Zurich:20211028T200000
DTSTAMP:20210825T084827Z
URL:https://www.qkk6.ch/events/2021/10/28/ein-blick-hinter-die-krimikuliss
 en-mit-severin-schwendener/
SUMMARY:Ein Blick hinter die Krimikulissen mit Severin Schwendener
DESCRIPTION:\nBlick hinter die Krimikulissen\nWer kennt das nicht? Man lies
 t oder hört eine Geschichte\, folgt ihr gefesselt durch alle Windungen bi
 s zum überraschenden Schluss und denkt sich dann: tolle Idee\, die der Au
 tor oder die Autorin da gehabt hat! Doch ist es wirklich so einfach? Ist e
 s die gute Idee\, die eine gute Geschichte ausmacht?\n\nDer Krimiautor Sev
 erin Schwendener und der Sprecher Marco Caduff gewähren einen Blick hinte
 r die Kulissen eines Krimis. Mit Ideen aus dem Publikum zeigen sie\, wie e
 ine Geschichte wirklich entsteht\, wie man den Bösen findet und was Spann
 ung in einen Text bringt.\n\nEintritt frei\, Kollekte. Nur mit Anmeldung b
 is 26.10.21 bei E-Mail\n
CATEGORIES:Lesung
LOCATION:Röslischüür\, Röslistrasse 9\, Zürich\, 8006\, Schweiz
GEO:47.388508;8.541154
X-APPLE-STRUCTURED-LOCATION;VALUE=URI;X-ADDRESS=Röslistrasse 9\, Zürich\,
  8006\, Schweiz;X-APPLE-RADIUS=100;X-TITLE=Röslischüür:geo:47.388508,8.
 541154
END:VEVENT
BEGIN:VTIMEZONE
TZID:Europe/Zurich
X-LIC-LOCATION:Europe/Zurich
BEGIN:DAYLIGHT
DTSTART:20210328T030000
TZOFFSETFROM:+0100
TZOFFSETTO:+0200
TZNAME:CEST
END:DAYLIGHT
END:VTIMEZONE
END:VCALENDAR