BEGIN:VCALENDAR
VERSION:2.0
PRODID:-//wp-events-plugin.com//7.2.3.1//EN
TZID:Europe/Zurich
X-WR-TIMEZONE:Europe/Zurich
BEGIN:VEVENT
UID:151@qkk6.ch
DTSTART;TZID=Europe/Zurich:20211004T200000
DTEND;TZID=Europe/Zurich:20211004T200000
DTSTAMP:20210819T113455Z
URL:https://www.qkk6.ch/events/2021/10/04/lesung-mit-emil-zopfi-der-unterg
 ang-des-delphin/
SUMMARY:Lesung mit Emil Zopfi: Der Untergang des Delphin
DESCRIPTION:Der Untergang des Delphin. Die «Titanic vom Walensee». Histor
 ischer Roman.\nIn der Nacht vom 16. auf den 17. Dezember 1850 sank in eine
 m Sturm auf dem Walensee der Dampfer «Delphin» mit dreizehn Mensch-en an
  Bord. Der Nachtkurs auf dem Walensee war Teil einer Post- und Handelsrout
 e\, einer «Seidenstrasse» zwischen den Seidenindus-trien von Zürich und
  der Lombardei. Der Ro-man schildert das Unglück aus der Sicht der Passag
 iere und der Mannschaft auf Grund von Dokumenten\, Untersuchungsakten und 
 Zeitungsberichten. Das Leben und Schicksal der Opfer erscheint typisch fü
 r ein Zeit des politischen Um- und Aufbruchs in der Schweiz mit der rasch 
 fortschreitenden Industrialisierung und Mobilität. Im zweiten Teil geht e
 s um die Bergung des Wracks\, die Hilfsaktion für die Angehörigen der Op
 fer und die Untersuchung des Unglücks durch die Behörden mit der Frage n
 ach Schuld und Verantwortung.\n\nEmil Zopfi (Foto by Marco Volken) liest\,
  begleitet von Siegfried Jud mit historischen Instrumenten.\nAS Verlag\, Z
 iegelbrücke/Zürich: http://zopfi.ch/delphin/\n\nEintritt frei\, Kollekte
 . Nur mit Anmeldung bis 2.10.21 bei E-Mail\n
ATTACH;FMTTYPE=image/jpeg:https://www.qkk6.ch/wp-content/uploads/Zopfi_by_
 Marco_Volken_2-e1628685916906.jpg
CATEGORIES:Lesung
LOCATION:Röslischüür\, Röslistrasse 9\, Zürich\, 8006\, Schweiz
GEO:47.388508;8.541154
X-APPLE-STRUCTURED-LOCATION;VALUE=URI;X-ADDRESS=Röslistrasse 9\, Zürich\,
  8006\, Schweiz;X-APPLE-RADIUS=100;X-TITLE=Röslischüür:geo:47.388508,8.
 541154
END:VEVENT
BEGIN:VTIMEZONE
TZID:Europe/Zurich
X-LIC-LOCATION:Europe/Zurich
BEGIN:DAYLIGHT
DTSTART:20210328T030000
TZOFFSETFROM:+0100
TZOFFSETTO:+0200
TZNAME:CEST
END:DAYLIGHT
END:VTIMEZONE
END:VCALENDAR