BEGIN:VCALENDAR
VERSION:2.0
PRODID:-//wp-events-plugin.com//7.2.3.1//EN
TZID:Europe/Zurich
X-WR-TIMEZONE:Europe/Zurich
BEGIN:VEVENT
UID:143@qkk6.ch
DTSTART;TZID=Europe/Zurich:20210930T200000
DTEND;TZID=Europe/Zurich:20210930T200000
DTSTAMP:20210819T113408Z
URL:https://www.qkk6.ch/events/2021/09/30/der-grosse-traum-vom-himmel-roes
 lischuer-zuerich/
SUMMARY:Der grosse Traum vom Himmel
DESCRIPTION:Der grosse Traum vom Himmel\n\n\n(Great Dream of Heaven)\nA Tri
 bute to Sam Shepard &amp\; Ry Cooder\n\nDas KontroVersTheater zeigt:\nKurz
 geschichten von Sam Shepard\nMusik by Ry Cooder &amp\; Rob Gutmann\n\nEine
  schreckliche Anwandlung&nbsp\; &nbsp\; &nbsp\; (Feelin' Bad Blues)\nDie F
 irmeninteressen&nbsp\; &nbsp\; &nbsp\; &nbsp\; &nbsp\; &nbsp\; &nbsp\; &nb
 sp\; &nbsp\; &nbsp\;&nbsp\; (Cherry Ball Blues)\nCoalinga auf halbem Weg&n
 bsp\; &nbsp\; &nbsp\; &nbsp\; &nbsp\; &nbsp\; &nbsp\;(Paris\,Texas)\nAlle 
 Bäume sind nackt&nbsp\; &nbsp\; &nbsp\; &nbsp\; &nbsp\; &nbsp\; &nbsp\; &
 nbsp\; &nbsp\;&nbsp\; (Der dritte Mann)&nbsp\;\n\nEs war nicht Proust (Int
 ro)&nbsp\; &nbsp\; &nbsp\; &nbsp\; &nbsp\; &nbsp\;&nbsp\; (Classical Guita
 r Instrumental)\nFremde\nConcepción&nbsp\; &nbsp\; &nbsp\; &nbsp\; &nbsp\
 ; &nbsp\; &nbsp\; &nbsp\; &nbsp\; &nbsp\; &nbsp\; &nbsp\; &nbsp\; &nbsp\; 
 &nbsp\; &nbsp\; &nbsp\;&nbsp\; (Maria Elena)\nKonvulsion&nbsp\; &nbsp\; &n
 bsp\; &nbsp\; &nbsp\; &nbsp\; &nbsp\; &nbsp\; &nbsp\; &nbsp\; &nbsp\; &nbs
 p\; &nbsp\; &nbsp\; &nbsp\; &nbsp\; &nbsp\;&nbsp\;&nbsp\;&nbsp\; (Dark End
  of the Street)&nbsp\; &nbsp\;\n\nIdee und Schauspiel&nbsp\; &nbsp\; &nbsp
 \; &nbsp\;Luciano Simioni\nMitarbeit&nbsp\; &nbsp\; &nbsp\; &nbsp\; &nbsp\
 ; &nbsp\; &nbsp\; &nbsp\; &nbsp\; &nbsp\; &nbsp\; &nbsp\;&nbsp\; Monika Si
 mioni\n\nEintritt frei\, Kollekte. Nur mit Anmeldung bis 29.9.21 mit Datum
 sangabe bei E-Mail\n
ATTACH;FMTTYPE=image/jpeg:https://www.qkk6.ch/wp-content/uploads/DSC08337-
 scaled-e1608561466445.jpg
CATEGORIES:Lesung,Theater
LOCATION:Röslischüür\, Röslistrasse 9\, Zürich\, 8006\, Schweiz
GEO:47.388508;8.541154
X-APPLE-STRUCTURED-LOCATION;VALUE=URI;X-ADDRESS=Röslistrasse 9\, Zürich\,
  8006\, Schweiz;X-APPLE-RADIUS=100;X-TITLE=Röslischüür:geo:47.388508,8.
 541154
END:VEVENT
BEGIN:VTIMEZONE
TZID:Europe/Zurich
X-LIC-LOCATION:Europe/Zurich
BEGIN:DAYLIGHT
DTSTART:20210328T030000
TZOFFSETFROM:+0100
TZOFFSETTO:+0200
TZNAME:CEST
END:DAYLIGHT
END:VTIMEZONE
END:VCALENDAR