BEGIN:VCALENDAR
VERSION:2.0
PRODID:-//wp-events-plugin.com//7.2.3.1//EN
TZID:Europe/Zurich
X-WR-TIMEZONE:Europe/Zurich
BEGIN:VEVENT
UID:150@qkk6.ch
DTSTART;TZID=Europe/Zurich:20210922T200000
DTEND;TZID=Europe/Zurich:20210922T200000
DTSTAMP:20210819T113336Z
URL:https://www.qkk6.ch/events/2021/09/22/buchvernissage-sklaven-und-hofmo
 hren-nur-mit-anmeldung/
SUMMARY:Buchvernissage: Sklaven und Hofmohren
DESCRIPTION:Sklaven und Hofmohren: Afrikaner in Europa zwischen dem 15. und
  19. Jahrhundert\n\nBuchvernissage von &nbsp\;Yves H. Schumacher\nErschien
 en im Zocher &amp\; Peter Verlag Kmg\, ZürichSBN/EAN: 9783907159323\n\nYv
 es Schumachers neue Publikation ist das Resultat einer jahrelangen Recherc
 he\, die vor dem Hintergrund des Diskurses über «Black Lives Matter» vo
 n hoher Aktualität ist.\nYves Schumacher diskutiert mit dem Verleger Bern
 d Zocher und liest aus seinem rund 450-seitigen Werk.\n«Sklaven und Hofmo
 hren» stellt Afrikanerinnen und Afrikaner vor\, die das Schicksal nach Eu
 ropa verschlagen hat. Das Buch folgt dem Ansatz\, das leidvolle Leben der 
 Schwarzen in den einzelnen europäischen Ländern zu verfolgen. Was vorlie
 gt\, ist eine Sammlung von Mikrohistorien und Alltagsschilderungen\, die s
 ich zu einer differenzierten Geschichte von politischer Unterdrückung\, s
 ozialen Missständen und ökonomischer Ausbeutung brillant verweben.\n\nEi
 ntritt frei\, Kollekte. Nur mit Anmeldung bis 20.9.21 bei E-Mail\n
ATTACH;FMTTYPE=image/jpeg:https://www.qkk6.ch/wp-content/uploads/buch-Y.-S
 chumachergroesser.png
CATEGORIES:Lesung
LOCATION:Röslischüür\, Röslistrasse 9\, Zürich\, 8006\, Schweiz
GEO:47.388508;8.541154
X-APPLE-STRUCTURED-LOCATION;VALUE=URI;X-ADDRESS=Röslistrasse 9\, Zürich\,
  8006\, Schweiz;X-APPLE-RADIUS=100;X-TITLE=Röslischüür:geo:47.388508,8.
 541154
END:VEVENT
BEGIN:VTIMEZONE
TZID:Europe/Zurich
X-LIC-LOCATION:Europe/Zurich
BEGIN:DAYLIGHT
DTSTART:20210328T030000
TZOFFSETFROM:+0100
TZOFFSETTO:+0200
TZNAME:CEST
END:DAYLIGHT
END:VTIMEZONE
END:VCALENDAR