BEGIN:VCALENDAR
VERSION:2.0
PRODID:-//wp-events-plugin.com//7.2.3.1//EN
TZID:Europe/Zurich
X-WR-TIMEZONE:Europe/Zurich
BEGIN:VEVENT
UID:149@qkk6.ch
DTSTART;TZID=Europe/Zurich:20210916T200000
DTEND;TZID=Europe/Zurich:20210916T200000
DTSTAMP:20210819T113304Z
URL:https://www.qkk6.ch/events/2021/09/16/el-arbol-del-olvido-konzert-nur-
 mit-anmeldung/
SUMMARY:El árbol del olvido - Konzert
DESCRIPTION:El árbol del olvido - Konzert\nMit Musik von Piazzolla\, de Fa
 lla\, Ginastera\, Granados und Padrós\n\nIna Callejas&nbsp\;&nbsp\;&nbsp\
 ;&nbsp\;&nbsp\;&nbsp\; Akkordeon\nSimona Ryser&nbsp\;&nbsp\; Sopran\n\nDas
  Duo Ryser &amp\; Callejas spielt Lieder und Soli von Astor Piazzolla\, Ma
 nuel de Falla\, Alberto Ginastera\, Enrique Granados und Jaime&nbsp\;Padr
 ós. Die leidenschaftlichen Kompositionen erzählen je in ihrem eigenen To
 ne von der Liebe\, der Sehnsucht\, dem Aufbruch und vom einfachen Leben. D
 abei verbinden sich Motive traditioneller Musik mit moderner Klassik. Die 
 mitreissenden Tangos von Piazzolla\, die Canciones von de Falla und von Gi
 nastera wechseln sich ab mit melancholischen Melodien und sanften Tönen\,
  etwa in Granados’ «Tonadillas» oder\n\nPadrós’ «Cancionero del lu
 gar».\n\nEintritt frei\, Kollekte. Nur mit Anmeldung bis 13.9.21 bei E-Ma
 il\n
ATTACH;FMTTYPE=image/jpeg:https://www.qkk6.ch/wp-content/uploads/ryser_ine
 sneu-e1626343982488.png
CATEGORIES:Konzert
LOCATION:Röslischüür\, Röslistrasse 9\, Zürich\, 8006\, Schweiz
GEO:47.388508;8.541154
X-APPLE-STRUCTURED-LOCATION;VALUE=URI;X-ADDRESS=Röslistrasse 9\, Zürich\,
  8006\, Schweiz;X-APPLE-RADIUS=100;X-TITLE=Röslischüür:geo:47.388508,8.
 541154
END:VEVENT
BEGIN:VTIMEZONE
TZID:Europe/Zurich
X-LIC-LOCATION:Europe/Zurich
BEGIN:DAYLIGHT
DTSTART:20210328T030000
TZOFFSETFROM:+0100
TZOFFSETTO:+0200
TZNAME:CEST
END:DAYLIGHT
END:VTIMEZONE
END:VCALENDAR