BEGIN:VCALENDAR
VERSION:2.0
PRODID:-//wp-events-plugin.com//7.2.3.1//EN
TZID:Europe/Zurich
X-WR-TIMEZONE:Europe/Zurich
BEGIN:VEVENT
UID:148@qkk6.ch
DTSTART;TZID=Europe/Zurich:20210915T200000
DTEND;TZID=Europe/Zurich:20210915T200000
DTSTAMP:20210819T113238Z
URL:https://www.qkk6.ch/events/2021/09/15/die-kaiserin-und-ihre-tiere-nur-
 mit-anmeldung/
SUMMARY:Die Kaiserin und ihre Tiere
DESCRIPTION:Die Kaiserin und ihre Tiere: Mit dem Inneren kommunizieren\nLes
 ung von Marian Leuthold\n\n«Wie gross bist du?»\, fragt Marian Leuthold 
 im ersten Satz ihres Buches und gibt den Leserinnen und Lesern auch gleich
  eine unerwartete Antwort:\n«Misst man dich mit den üblichen Massen\, da
 nn bist du vielleicht 1.74 m gross. Würde man dich glatt bügeln\, dann w
 ärst du grösser als ein Fussballfeld. Wenn man dich auf ein Spinnrad auf
 wickeln und aus dir einen Faden spinnen würde\, dann umschlängest du cir
 ca fünfzig Mal den Äquator. Betrachte ich dich als Wesen mit Haut und Ha
 ar\, Hirn und Herz und allen anderen Organen\, dann bist du so gross wie e
 in Staat. Ja\, wirklich\, du bist so gross wie ein Staat. Ein Körperstaat
  mit über 50 Billionen Einwohnern!»\nGrösse ist relativ. Wir können un
 s als verschwindend kleines Pünktchen auf dieser Erde betrachten oder ebe
 n als einen ganzen Staat.\nDas Buch ist eine abenteuerliche\, etwas andere
  Reise durch unseren Körper. Die Chinesische Medizin dient der in Zürich
  praktizierenden Therapeutin als Inspirationsquelle. In ihrem gut verstän
 dlichen Buch\, das vom Künstler Alain Poussot meisterhaft illustriert wur
 de\, verbindet die Autorin das Wissen von Ost und West.\n\nEintritt frei\,
  Kollekte. Nur mit Anmeldung bis 13.9.21 bei E-Mail\n
ATTACH;FMTTYPE=image/jpeg:https://www.qkk6.ch/wp-content/uploads/tao-e1626
 338881768.png
CATEGORIES:Lesung
LOCATION:Röslischüür\, Röslistrasse 9\, Zürich\, 8006\, Schweiz
GEO:47.388508;8.541154
X-APPLE-STRUCTURED-LOCATION;VALUE=URI;X-ADDRESS=Röslistrasse 9\, Zürich\,
  8006\, Schweiz;X-APPLE-RADIUS=100;X-TITLE=Röslischüür:geo:47.388508,8.
 541154
END:VEVENT
BEGIN:VTIMEZONE
TZID:Europe/Zurich
X-LIC-LOCATION:Europe/Zurich
BEGIN:DAYLIGHT
DTSTART:20210328T030000
TZOFFSETFROM:+0100
TZOFFSETTO:+0200
TZNAME:CEST
END:DAYLIGHT
END:VTIMEZONE
END:VCALENDAR