BEGIN:VCALENDAR
VERSION:2.0
PRODID:-//wp-events-plugin.com//7.2.3.1//EN
TZID:Europe/Zurich
X-WR-TIMEZONE:Europe/Zurich
BEGIN:VEVENT
UID:147@qkk6.ch
DTSTART;TZID=Europe/Zurich:20210913T200000
DTEND;TZID=Europe/Zurich:20210913T200000
DTSTAMP:20210819T113154Z
URL:https://www.qkk6.ch/events/2021/09/13/die-bilderwelt-brasiliens-nur-mi
 t-anmeldung/
SUMMARY:Die Bilderwelt Brasiliens
DESCRIPTION:Die Bilderwelt Brasiliens\nEin Film von Peter K. Wehrli\n\nKarn
 eval\, Fussball\, Samba\, die Klischées&nbsp\;helfen der Reiseindustrie B
 rasilien als Traumziel zu vermarkten. Es gibt allerdings ein verlässliche
 res und unübliches Mittel\, diesen Schmelztiegel der Kulturen und Rassen 
 verstehen zu&nbsp\;lernen:\n\nEs sind die Bilder der grossen brasilianisch
 en Künstler.&nbsp\;Sie erweisen sich als zuverlässigere Reiseführer als
  die Werbemanager und Reiseagenten\, denen sich der Tourist üblicherweise
  blindlings anvertraut. In Peter K. Wehrlis Film «Die Bilderwelt Brasilie
 ns» zeigen uns die Maler und Schriftsteller ihr tropisches Land&nbsp\;aus
  ihrer Sicht und lassen uns sogar die vertrauten Sehenswürdigkeiten neu e
 rleben.\n\nEintritt frei\, Kollekte. Nur mit Anmeldung bis 11.9.21 bei E-M
 ail\n
ATTACH;FMTTYPE=image/jpeg:https://www.qkk6.ch/wp-content/uploads/pkwkleine
 r-e1626338620582.png
CATEGORIES:Film
LOCATION:Röslischüür\, Röslistrasse 9\, Zürich\, 8006\, Schweiz
GEO:47.388508;8.541154
X-APPLE-STRUCTURED-LOCATION;VALUE=URI;X-ADDRESS=Röslistrasse 9\, Zürich\,
  8006\, Schweiz;X-APPLE-RADIUS=100;X-TITLE=Röslischüür:geo:47.388508,8.
 541154
END:VEVENT
BEGIN:VTIMEZONE
TZID:Europe/Zurich
X-LIC-LOCATION:Europe/Zurich
BEGIN:DAYLIGHT
DTSTART:20210328T030000
TZOFFSETFROM:+0100
TZOFFSETTO:+0200
TZNAME:CEST
END:DAYLIGHT
END:VTIMEZONE
END:VCALENDAR