BEGIN:VCALENDAR
VERSION:2.0
PRODID:-//wp-events-plugin.com//7.2.3.1//EN
TZID:Europe/Zurich
X-WR-TIMEZONE:Europe/Zurich
BEGIN:VEVENT
UID:146@qkk6.ch
DTSTART;TZID=Europe/Zurich:20210701T190000
DTEND;TZID=Europe/Zurich:20210701T190000
DTSTAMP:20210507T082047Z
URL:https://www.qkk6.ch/events/2021/07/01/2-wanderlesung-mit-peter-k-wehrl
 i-nur-mit-anmeldung/
SUMMARY:2. Wanderlesung mit Peter K. Wehrli - nur mit Anmeldung
DESCRIPTION:Auf der Wanderlesung führt uns&nbsp\; Peter K. Wehrli durch di
 e Altstadt und liest an den jeweiligen Schauplätzen die entsprechenden Ka
 talognummern aus seinem neu erschienenen „Zürcher Katalog“. Wichtiger
  noch als die üblichen touristischen Sehenswürdigkeiten sind bei diesem 
 Stadtgang die verborgenen Winkel und das verschwiegene Ungewohnte\, die We
 hrlis Zürich ausmachen.\n„Ein Reiseführer durch Zürichs scheinbare Un
 scheinbarkeiten und die wahren Unwahrscheinlichkeiten“. Was es gibt\, da
 s gibt es in Zürich\, der „Zürcher Katalog“ hilft\, es aufzuspüren.
  Auf diese Weise zeigt Peter K. Wehrli seinen Mitbewohner/-innen ihre Stad
 t so\, als sähen sie alles zum ersten Mal.\n\nAnmeldung bis 27.6.21 bei c
 hristine.nipkow@bluewin.ch\n\nTreffpunkt: Hechtplatz [Karte]
ATTACH;FMTTYPE=image/jpeg:https://www.qkk6.ch/wp-content/uploads/pkwkleine
 r-e1626338620582.png
CATEGORIES:Lesung
LOCATION:Hechtplatz\, Hechtplatz\, Zürich\, Zürich\, 8001\, Zürich\, Sch
 weiz
GEO:47.368430;8.544507
X-APPLE-STRUCTURED-LOCATION;VALUE=URI;X-ADDRESS=Hechtplatz\, Zürich\, Zür
 ich\, 8001\, Zürich\, Schweiz;X-APPLE-RADIUS=100;X-TITLE=Hechtplatz:geo:4
 7.368430,8.544507
END:VEVENT
BEGIN:VTIMEZONE
TZID:Europe/Zurich
X-LIC-LOCATION:Europe/Zurich
BEGIN:DAYLIGHT
DTSTART:20210328T030000
TZOFFSETFROM:+0100
TZOFFSETTO:+0200
TZNAME:CEST
END:DAYLIGHT
END:VTIMEZONE
END:VCALENDAR