BEGIN:VCALENDAR
VERSION:2.0
PRODID:-//wp-events-plugin.com//7.2.3.1//EN
TZID:Europe/Zurich
X-WR-TIMEZONE:Europe/Zurich
BEGIN:VEVENT
UID:145@qkk6.ch
DTSTART;TZID=Europe/Zurich:20210621T200000
DTEND;TZID=Europe/Zurich:20210621T200000
DTSTAMP:20210515T074029Z
URL:https://www.qkk6.ch/events/2021/06/21/waehrend-wir-feiern-lesung-von-u
 lrike-ulrich/
SUMMARY:Während wir feiern: Lesung von Ulrike Ulrich - nur mit Anmeldung
DESCRIPTION:Während wir feiern\n\n\nUlrike Ulrich\, geboren 1968 in Düsse
 ldorf\, lebt seit 2004 als Schriftstellerin in Zürich. 2010 erschien ihr 
 Debütroman »fern bleiben«\, dem 2013 der Roman »Hinter den Augen« fol
 gte\, und 2015 der Erzählband »Draussen um diese Zeit«. Mit Svenja Herr
 mann hat sie Anthologien zum 60. und 70. Geburtstag der Menschenrechte her
 ausgegeben. Mit Axmed Cabdullahi erschien zuletzt »Ein Alphabet vom Schre
 iben und Unterwegssein«. Sie gehört den Autorinnengruppen index und »Li
 teratur für das\, was passiert« an. Ihre Texte wurden u. a. mit dem Walt
 er Serner-Preis 2010\, dem Lilly-Ronchetti-Preis 2011 und Anerkennungsprei
 sen der Stadt Zürich ausgezeichnet. 2016 erhielt Ulrike Ulrich ein Werkja
 hr der Stadt Zürich und 2018 einen Pro Helvetia-Werkbeitrag für »Währe
 nd wir feiern«.\n\n»Rasant\, humorvoll\, wortgewandt und mit einem fraue
 nspezifischen Blick erzählt\, versteht es Ulrike Ulrich\, die heute wicht
 igen Themen Migration und Menschrechte in Europa auf unseren Alltag herunt
 erzubrechen\, und dabei hält sie uns auch als Nichtschweizerinnen einen S
 piegel vor.«\, der-kultur-blog.de\, 17.07.2020\n\nEintritt frei\, Kollekt
 e\, Anmeldung bis 17.6.21&nbsp\; bei christine.nipkow@bluewin.ch (bitte mi
 t Telefonnummer)\n
ATTACH;FMTTYPE=image/jpeg:https://www.qkk6.ch/wp-content/uploads/Waehrendw
 irfeierngross-1-e1616317461740.jpg
CATEGORIES:Lesung
LOCATION:Röslischüür\, Röslistrasse 9\, Zürich\, 8006\, Schweiz
GEO:47.388508;8.541154
X-APPLE-STRUCTURED-LOCATION;VALUE=URI;X-ADDRESS=Röslistrasse 9\, Zürich\,
  8006\, Schweiz;X-APPLE-RADIUS=100;X-TITLE=Röslischüür:geo:47.388508,8.
 541154
END:VEVENT
BEGIN:VTIMEZONE
TZID:Europe/Zurich
X-LIC-LOCATION:Europe/Zurich
BEGIN:DAYLIGHT
DTSTART:20210328T030000
TZOFFSETFROM:+0100
TZOFFSETTO:+0200
TZNAME:CEST
END:DAYLIGHT
END:VTIMEZONE
END:VCALENDAR