BEGIN:VCALENDAR
VERSION:2.0
PRODID:-//wp-events-plugin.com//7.2.3.1//EN
TZID:Europe/Zurich
X-WR-TIMEZONE:Europe/Zurich
BEGIN:VEVENT
UID:140@qkk6.ch
DTSTART;TZID=Europe/Zurich:20210517T200000
DTEND;TZID=Europe/Zurich:20210517T200000
DTSTAMP:20210515T073944Z
URL:https://www.qkk6.ch/events/2021/05/17/max-am-rand-roeslischuer-zuerich
 /
SUMMARY:Ausgebucht: Max am Rand
DESCRIPTION:Max am Rand\nMax nimmt uns auf seinen letzten urbanen Streifzug
  mit. Eine vertrackte Odyssee durch Notaufnahmen\, Wartesäle\, Cafés\, 
 Ämter\, der Abstecher ins Paradies und zum lieben Gott inklusive. Er such
 t\, ersehnt und träumt die Liebe und trifft auf Frauen\, die M... heissen
 . Wenn’s zwischendurch klingelt ist es Alphons\, der für Max wählen so
 ll wann Ende ist. „Wie möchtest du es haben - fragt Alfons – nicht im
  Schlaf – sage ich – am liebsten inmitten von etwas – also jetzt zum
  Beispiel – sagt er – ich antworte nicht...“ Und immer wieder geht e
 r die Strasse entlang... und dann links\, und dann links\, und dann links.
 ..\n\nDie Geschichte von Max verbindet Imagination und Wirklichkeit mit ei
 ner erheiternden Zwanglosigkeit.\nMax am Rand - ein ausgesprochen komische
 s Philosophieren über scheinbare Belanglosigkeiten des Alltags.\n\nMax:&n
 bsp\;&nbsp\;&nbsp\; Peter Hottinger\nRegie:&nbsp\; Martha Zürcher\nText: 
 &nbsp\;&nbsp\; Jens Nielsen\n\nInszenierung:\nSowie der Text sich durch di
 e Strassen einer gewöhnlichen Stadt schlängelt\, soll Max am Rand auch i
 mmer wieder in Szene gesetzt werden. Das Foyer\, die Bar\, der Wartesaal o
 der andere Zwischenräume bleiben was sie sind. Der Schauspieler\, und mit
  ihm die Geschichte\, schlendert zwischen Tischen und Stühlen\, schleicht
  den Wänden entlang\, verweilt an der Bar\, steigt mit einem Stuhl auf de
 n Tisch oder geht auch einfach mal nach draussen. Jeder Spielraum wird neu
  erkundet und belebt\, nur ein Scheinwerfer auf Räder\, begleitet den Spi
 eler auf seinem Streifzug durch die Geschichten von Max.\n\nEintritt frei\
 , Kollekte. Nur mit Anmeldung bis 16.5.21 unter susanne.habluetzel@bluewin
 .ch
ATTACH;FMTTYPE=image/jpeg:https://www.qkk6.ch/wp-content/uploads/hott6-e16
 15465751539.png
CATEGORIES:Theater
LOCATION:Röslischüür\, Röslistrasse 9\, Zürich\, 8006\, Schweiz
GEO:47.388508;8.541154
X-APPLE-STRUCTURED-LOCATION;VALUE=URI;X-ADDRESS=Röslistrasse 9\, Zürich\,
  8006\, Schweiz;X-APPLE-RADIUS=100;X-TITLE=Röslischüür:geo:47.388508,8.
 541154
END:VEVENT
BEGIN:VTIMEZONE
TZID:Europe/Zurich
X-LIC-LOCATION:Europe/Zurich
BEGIN:DAYLIGHT
DTSTART:20210328T030000
TZOFFSETFROM:+0100
TZOFFSETTO:+0200
TZNAME:CEST
END:DAYLIGHT
END:VTIMEZONE
END:VCALENDAR