BEGIN:VCALENDAR
VERSION:2.0
PRODID:-//wp-events-plugin.com//7.2.3.1//EN
TZID:Europe/Zurich
X-WR-TIMEZONE:Europe/Zurich
BEGIN:VEVENT
UID:136@qkk6.ch
DTSTART;TZID=Europe/Zurich:20210424T200000
DTEND;TZID=Europe/Zurich:20210424T200000
DTSTAMP:20210407T094125Z
URL:https://www.qkk6.ch/events/2021/04/24/im-chansonrausch-roeslischuer-zu
 erich/
SUMMARY:Im Chansonrausch - abgesagt
DESCRIPTION:Im Chansonrausch\nElegant\, verführerisch\, mit einem Hauch vo
 n Glamour und Verruchtheit\, stets verbunden mit einem feinen Humor\, der 
 diese andere\, erträgliche Sicht auf die Welt vermittelt. Voll schalkhaft
 er Melancholie beschwört Lisa Berg mit ihrer berührenden\, strahlenden C
 hansonstimme Alltagstragödien\, Frühlingsidyllen und Rauschzustände. Di
 e heimliche Königin des deutschen Chansons&nbsp\; steht in einer langen T
 radition grosser Namen: Edith Piaf\, Paul Burkhard oder Georg Kreisler\, a
 lle haben bei ihr ihre unverkennbaren Spuren hinterlassen\, insbesondere a
 uch ihre Mentorin Topsy Küppers.\nAm Klavier begleitet sie ihr kongeniale
 r Songschreiber-Partner David Ruosch\, einer der gefragtesten Jazz- und Bl
 uespianisten der Schweiz und Dozent an der Zürcher Hochschule der Künste
 \, auf der Geige Nina Ulli\, die in ihrem Spiel virtuose Violintechnik mit
  einfühlsamer Begleitung verbindet.\n\nGesang &nbsp\;&nbsp\;&nbsp\;&nbsp\
 ;&nbsp\;&nbsp\;&nbsp\;&nbsp\;&nbsp\;&nbsp\;&nbsp\;&nbsp\;&nbsp\;&nbsp\; Li
 sa Berg (www.lisaberg.ch)\nKlavier &nbsp\; &nbsp\; &nbsp\; &nbsp\; &nbsp\;
  &nbsp\; &nbsp\; &nbsp\; David Ruosch&nbsp\; &nbsp\; &nbsp\; &nbsp\; &nbsp
 \; &nbsp\;&nbsp\;&nbsp\;&nbsp\;&nbsp\;&nbsp\;\nVioline &nbsp\; &nbsp\; &nb
 sp\; &nbsp\; &nbsp\; &nbsp\; &nbsp\; &nbsp\; Nina Ulli\n\nAnmeldung bis 19
 .4.21 mit Datumsangabe bei christine.nipkow@bluewin.ch\, Platzzahl beschr
 änkt\, Kollekte
ATTACH;FMTTYPE=image/jpeg:https://www.qkk6.ch/wp-content/uploads/Lisa-Berg
 -002-e1607246684949.jpeg
CATEGORIES:Konzert
LOCATION:Röslischüür\, Röslistrasse 9\, Zürich\, 8006\, Schweiz
GEO:47.388508;8.541154
X-APPLE-STRUCTURED-LOCATION;VALUE=URI;X-ADDRESS=Röslistrasse 9\, Zürich\,
  8006\, Schweiz;X-APPLE-RADIUS=100;X-TITLE=Röslischüür:geo:47.388508,8.
 541154
END:VEVENT
BEGIN:VTIMEZONE
TZID:Europe/Zurich
X-LIC-LOCATION:Europe/Zurich
BEGIN:DAYLIGHT
DTSTART:20210328T030000
TZOFFSETFROM:+0100
TZOFFSETTO:+0200
TZNAME:CEST
END:DAYLIGHT
END:VTIMEZONE
END:VCALENDAR