BEGIN:VCALENDAR
VERSION:2.0
PRODID:-//wp-events-plugin.com//7.2.3.1//EN
TZID:Europe/Zurich
X-WR-TIMEZONE:Europe/Zurich
BEGIN:VEVENT
UID:138@qkk6.ch
DTSTART;TZID=Europe/Zurich:20210111T200000
DTEND;TZID=Europe/Zurich:20210111T200000
DTSTAMP:20201206T093553Z
URL:https://www.qkk6.ch/events/2021/01/11/balladen-im-rigiblick-24/
SUMMARY:Balladen im Rigiblick - abgesagt
DESCRIPTION:Balladen: Marienleben\nRainer Maria Rilke - Marina Zwetajewa - 
 Paul Hindemith\n\nKapitel IX\n\nDie Sopranistin Rachel Harnisch und der Pi
 anist Jan Philip Schulze gastieren mit seinem grossen Repertoire auf der g
 anzen Welt. Eine besondere Vorliebe hat das Liedduo für Paul Hindemiths V
 ertonung des Gedichtzyklus „Marienleben“ von Rainer Maria Rilke\, eine
 m Hauptwerk der Gattung Liedzyklus im 20. Jahrhundert.\n\nDie Dichterin Il
 ma Rakusa begleitet die musikalische Darbietung mit der Lesung ihrer Über
 setzung der Erzählung „Die Kirillstöchter“ von Marina Zwetajewa.\n\n
 Rezitation&nbsp\;&nbsp\;&nbsp\;&nbsp\;&nbsp\;&nbsp\; Ilma Rakusa\nSopran&n
 bsp\;&nbsp\;&nbsp\;&nbsp\;&nbsp\;&nbsp\;&nbsp\;&nbsp\;&nbsp\;&nbsp\;&nbsp\
 ; Rachel Harnisch\nKlavier&nbsp\;&nbsp\;&nbsp\;&nbsp\;&nbsp\;&nbsp\;&nbsp\
 ;&nbsp\;&nbsp\;&nbsp\;&nbsp\; Jan Philip Schulze\nKonzept &nbsp\; &nbsp\; 
 &nbsp\;&nbsp\;&nbsp\;&nbsp\; Daniel Fueter\nLicht &nbsp\; &nbsp\; &nbsp\; 
 &nbsp\; &nbsp\; &nbsp\; &nbsp\; Simone Kaufmann\n\nEine Koproduktion vom T
 heater Rigiblick mit der Quartier-Kultur Kreis 6.\n\nEintrittspreise (frei
 e Platzwahl) Fr. 33.– / 28.– / 15.–&nbsp\;&nbsp\;&nbsp\;&nbsp\; Vorv
 erkauf und Reservation: 044 361 80 51 oder tickets@theater-rigiblick.ch
ATTACH;FMTTYPE=image/jpeg:https://www.qkk6.ch/wp-content/uploads/marien2-e
 1605866783830.png
CATEGORIES:Konzert,Lesung
LOCATION:Theater Rigiblick\, Germaniastrasse 99\, Zürich\, 8044\, Schweiz
GEO:47.388274;8.553456
X-APPLE-STRUCTURED-LOCATION;VALUE=URI;X-ADDRESS=Germaniastrasse 99\, Züric
 h\, 8044\, Schweiz;X-APPLE-RADIUS=100;X-TITLE=Theater Rigiblick:geo:47.388
 274,8.553456
END:VEVENT
BEGIN:VTIMEZONE
TZID:Europe/Zurich
X-LIC-LOCATION:Europe/Zurich
BEGIN:STANDARD
DTSTART:20201025T020000
TZOFFSETFROM:+0200
TZOFFSETTO:+0100
TZNAME:CET
END:STANDARD
END:VTIMEZONE
END:VCALENDAR