BEGIN:VCALENDAR
VERSION:2.0
PRODID:-//wp-events-plugin.com//7.2.3.1//EN
TZID:Europe/Zurich
X-WR-TIMEZONE:Europe/Zurich
BEGIN:VEVENT
UID:133@qkk6.ch
DTSTART;TZID=Europe/Zurich:20201129T170000
DTEND;TZID=Europe/Zurich:20201129T170000
DTSTAMP:20201013T094947Z
URL:https://www.qkk6.ch/events/2020/11/29/winters-night-nur-mit-anmeldung/
SUMMARY:Winter's night - nur mit Anmeldung
DESCRIPTION:In unserem neuen Programm werden Geschichten erzählt\, Ballade
 n und Romanzen\, so wie sie in den Volksliedern von Benjamin Britten vorko
 mmen. Da geht es um Sehnsüchte\, um mutige Frauen und traurige Männer\, 
 um Liebesfreuden und -mühen\, um kalte Winternächte\, verstohlene Treffe
 n\, verpasste und verlorene Lieben. Doch nicht nur in diesen englischen fo
 lk tunes\, auch in Henry Purcells Musik\, bei der sich Britten immer wiede
 r inspirierte\, wird von den Launen der Liebe erzählt\, die so oft von de
 r Musik selbst versöhnt werden. Und kontrastierend wehen Schuberts romant
 ische Lieder durch die Winternacht\, in der der Mond ruhig seine Bahnen zi
 eht.\n\nSimona Ryser\, Sopran und Ina Callejas\, Akkordeon\n\nBeschränkte
  Platzzahl: Nur mit Anmeldung bei christine.nipkow@bluewin.ch\n\nKollekte
ATTACH;FMTTYPE=image/jpeg:https://www.qkk6.ch/wp-content/uploads/ryser-e16
 26339919342.png
CATEGORIES:Konzert
LOCATION:Röslischüür\, Röslistrasse 9\, Zürich\, 8006\, Schweiz
GEO:47.388508;8.541154
X-APPLE-STRUCTURED-LOCATION;VALUE=URI;X-ADDRESS=Röslistrasse 9\, Zürich\,
  8006\, Schweiz;X-APPLE-RADIUS=100;X-TITLE=Röslischüür:geo:47.388508,8.
 541154
END:VEVENT
BEGIN:VTIMEZONE
TZID:Europe/Zurich
X-LIC-LOCATION:Europe/Zurich
BEGIN:STANDARD
DTSTART:20201025T020000
TZOFFSETFROM:+0200
TZOFFSETTO:+0100
TZNAME:CET
END:STANDARD
END:VTIMEZONE
END:VCALENDAR