BEGIN:VCALENDAR
VERSION:2.0
PRODID:-//wp-events-plugin.com//7.2.3.1//EN
TZID:Europe/Zurich
X-WR-TIMEZONE:Europe/Zurich
BEGIN:VEVENT
UID:130@qkk6.ch
DTSTART;TZID=Europe/Zurich:20201128T200000
DTEND;TZID=Europe/Zurich:20201128T200000
DTSTAMP:20201127T153543Z
URL:https://www.qkk6.ch/events/2020/11/28/zuerich-liest-peter-k-wehrli-roe
 slischuer-zuerich-3/
SUMMARY:Buchvernissage Peter K. Wehrli - nur mit Anmeldung - ausverkauft!
DESCRIPTION:Buchvernissage: Peter K. Wehrli liest aus seiner&nbsp\;„Agend
 a für Immer“ (2020) \nAls poetischer Jahresüberblick&nbsp\; versammelt
  die Agenda Erfahrungen und Beobachtungen aus vielen Weltgegenden und viel
 en Jahrzehnten.&nbsp\; Das Zusammenspiel von Fremdem und Vertrautem&nbsp\;
  zieht sich als Grundton durch Wehrlis&nbsp\; gesamtes literarisches Schaf
 fen\,&nbsp\; in dessen Zentrum seit mehr als 50 Jahren der stets wachsende
  „Katalog von Allem“ steht.&nbsp\; So ist denn die „Agenda für Imme
 r“ auch&nbsp\; Teil dieses&nbsp\; dauernd erweiterten „Works&nbsp\; in
  Progress“.&nbsp\; Es sind „Bilder aus Sprache“\, die Wehrli da vers
 ammelt\, Sprachbilder die entstehen mussten\, weil Wehrli auf der Reise im
  Orientexpress seine Kamera&nbsp\; vergessen hatte.&nbsp\; So entschloss e
 r sich denn\, alle jene Dinge zu notieren\, die er fotografiert hätte\, w
 enn er die Kamera bei sich gehabt hätte: Abbildungen aus Sprache und Spra
 che statt Bild - Gedankenblitz statt Schnappschuss. Diese wörtliche Bilde
 rfolge wird unversehens zur Agenda&nbsp\; weil die Eintragungen den Daten 
 zugeordnet sind\, an denen sich das Erlebte zugetragen hat. Das Fremde und
  das Vertraute vermischen sich: Dies ist der unschuldige Blick dessen\, de
 r\, was er sieht\, zum ersten Mal sieht. Diese Lust am Wahrnehmen möchte 
 Wehrli nun auch mit der&nbsp\; „Agenda für Immer“ wecken. “Es gibt 
 nicht viele Bücher\, deren literarische Haltbarkeit man voraussagen kann.
  Der „Katalog von Allem“ ist eins von ihnen“. Was die Tageszeitung 
 „die Welt“ da geschrieben hat\, trifft durchaus auch auf die „Agenda
  für Immer“ zu.\n\nBeschränkte Platzzahl: Nur mit Anmeldung bei christ
 ine.nipkow@bluewin.ch\n\nKollekte\n\n\nNach der Lesung sind alle zu einem 
 Apéro eingeladen
ATTACH;FMTTYPE=image/jpeg:https://www.qkk6.ch/wp-content/uploads/pkwkleine
 r-e1626338620582.png
CATEGORIES:Lesung
LOCATION:Röslischüür\, Röslistrasse 9\, Zürich\, 8006\, Schweiz
GEO:47.388508;8.541154
X-APPLE-STRUCTURED-LOCATION;VALUE=URI;X-ADDRESS=Röslistrasse 9\, Zürich\,
  8006\, Schweiz;X-APPLE-RADIUS=100;X-TITLE=Röslischüür:geo:47.388508,8.
 541154
END:VEVENT
BEGIN:VTIMEZONE
TZID:Europe/Zurich
X-LIC-LOCATION:Europe/Zurich
BEGIN:STANDARD
DTSTART:20201025T020000
TZOFFSETFROM:+0200
TZOFFSETTO:+0100
TZNAME:CET
END:STANDARD
END:VTIMEZONE
END:VCALENDAR