BEGIN:VCALENDAR
VERSION:2.0
PRODID:-//wp-events-plugin.com//7.2.3.1//EN
TZID:Europe/Zurich
X-WR-TIMEZONE:Europe/Zurich
BEGIN:VEVENT
UID:132@qkk6.ch
DTSTART;TZID=Europe/Zurich:20201127T193000
DTEND;TZID=Europe/Zurich:20201127T193000
DTSTAMP:20201123T125553Z
URL:https://www.qkk6.ch/events/2020/11/27/maerlifueuer-ir-roeslischueuer-n
 ur-mit-anmeldung/
SUMMARY:Märlifüür ir Röslischüür - nur mit Anmeldung - ausverkauft!
DESCRIPTION:Ausverkauft\n\nEine Erzählstunde für Erwachsene:\nMundart&nbs
 p\;\nZum Nachdenken\, Schmunzeln\, Träumen\nLassen Sie sich entführen in
  die „Anderswelt“!\n\nErzählerinnen:\nAnnette Gallmann\nTherese Gilg\
 nSusanne Michel\nKarin Weibel\n\nBeschränkte Platzzahl: Nur mit Anmeldung
  per SMS 079 524 18 44 \n\nKollekte
ATTACH;FMTTYPE=image/jpeg:https://www.qkk6.ch/wp-content/uploads/Maerli-e1
 602582156937.png
CATEGORIES:Lesung
LOCATION:Röslischüür\, Röslistrasse 9\, Zürich\, 8006\, Schweiz
GEO:47.388508;8.541154
X-APPLE-STRUCTURED-LOCATION;VALUE=URI;X-ADDRESS=Röslistrasse 9\, Zürich\,
  8006\, Schweiz;X-APPLE-RADIUS=100;X-TITLE=Röslischüür:geo:47.388508,8.
 541154
END:VEVENT
BEGIN:VTIMEZONE
TZID:Europe/Zurich
X-LIC-LOCATION:Europe/Zurich
BEGIN:STANDARD
DTSTART:20201025T020000
TZOFFSETFROM:+0200
TZOFFSETTO:+0100
TZNAME:CET
END:STANDARD
END:VTIMEZONE
END:VCALENDAR