BEGIN:VCALENDAR
VERSION:2.0
PRODID:-//wp-events-plugin.com//7.2.3.1//EN
TZID:Europe/Zurich
X-WR-TIMEZONE:Europe/Zurich
BEGIN:VEVENT
UID:131@qkk6.ch
DTSTART;TZID=Europe/Zurich:20201105T200000
DTEND;TZID=Europe/Zurich:20201105T200000
DTSTAMP:20201014T081012Z
URL:https://www.qkk6.ch/events/2020/11/05/musikabend-mit-markus-tinner-und
 -weiteren-nur-mit-anmeldung-roeslischuer-zuerich/
SUMMARY:„Plodere und Chodere“ Tony Ettlin & Air Collage - nur mit Anmel
 dung
DESCRIPTION:„Ich lag an der Sonne und trank ein Glas Wein“. Hätten Sie
  gedacht\, dass man aus diesen Buchstaben über siebzig weitere Sätze bil
 den kann? Tony Ettlin kann das\, Autor von zahlreichen Anagrammen\, Kurz-\
 , Kürzestgeschichten und Gedichten in Hochdeutsch und urchigem Nidwaldner
  Dialekt. Wir sind gespannt\, was sich alles in den Buchstaben der „Rös
 lischüür“ verbirgt!\nBegleitet wird er vom Duo „Air Collage“\, das
  als musikalischer Farbtupfer an der „Atelierkultour Kreis 6 / 2018“ m
 itgewirkt hat. Die Röslischüür liegt genau in ihrer Mitte. Aus den bena
 chbarten Kreisen Hottingen (Markus Tinner\, Klarinette) und Wipkingen (Mar
 cel Roth\, Akkordeon\, Komposition)\, lassen sich sie sich von volkstümli
 chen Weisen und von Weltmusik inspirieren. Sie erzählen spielerisch ihre 
 „Launischen Kurzgeschichten für Akkordeon und Klarinette“.\nZu dritt 
 führen sie durch ein buntes und unterhaltsames Kontrastprogramm für Geni
 esser\, Lebenskünstlerinnen und Philosophen. aircollage.ch\; tonyettlin.c
 h\n\nKollekte\, beschränkte Platzzahl: Anmeldung bei christine.nipkow@blu
 ewin.ch\n\nPublikationen u.a.:\n- „Blätterteig und Völkerball - eine K
 indheit im Schatten des Stanserhorns“\, Limmatverlag\, Zürich 2007 (mit
  einem Vorwort von Peter von Matt)\n- "Läderach bringt täglich die Post"
 \, Kalender- und Kürzestgeschichten\, Verlag Bücher von Matt\, Stans\, 2
 019\n\nhttps://www.youtube.com/watch?v=-U6X4H9TlE8&amp\;feature=youtu.be\n
 https://www.youtube.com/watch?v=KJIPPOadzq8&amp\;t=44s\nhttps://www.youtub
 e.com/watch?v=Ss8DfRBQmHE&amp\;t=142s\n\n&nbsp\;\n\n&nbsp\;\n\n&nbsp\;\n\n
 &nbsp\;\n\n&nbsp\;
ATTACH;FMTTYPE=image/jpeg:https://www.qkk6.ch/wp-content/uploads/Tinnervor
 -dem-Zelt-scaled-e1602589871469.jpg
CATEGORIES:Konzert,Lesung
LOCATION:Röslischüür\, Röslistrasse 9\, Zürich\, 8006\, Schweiz
GEO:47.388508;8.541154
X-APPLE-STRUCTURED-LOCATION;VALUE=URI;X-ADDRESS=Röslistrasse 9\, Zürich\,
  8006\, Schweiz;X-APPLE-RADIUS=100;X-TITLE=Röslischüür:geo:47.388508,8.
 541154
END:VEVENT
BEGIN:VTIMEZONE
TZID:Europe/Zurich
X-LIC-LOCATION:Europe/Zurich
BEGIN:STANDARD
DTSTART:20201025T020000
TZOFFSETFROM:+0200
TZOFFSETTO:+0100
TZNAME:CET
END:STANDARD
END:VTIMEZONE
END:VCALENDAR