BEGIN:VCALENDAR
VERSION:2.0
PRODID:-//wp-events-plugin.com//7.2.3.1//EN
TZID:Europe/Zurich
X-WR-TIMEZONE:Europe/Zurich
BEGIN:VEVENT
UID:128@qkk6.ch
DTSTART;TZID=Europe/Zurich:20201026T200000
DTEND;TZID=Europe/Zurich:20201026T200000
DTSTAMP:20200718T140103Z
URL:https://www.qkk6.ch/events/2020/10/26/balladen-im-rigiblick-23/
SUMMARY:Balladen im Rigiblick
DESCRIPTION:Kakanische Balladen\nPeter Schweiger und Petra Ronner bieten ei
 n österreichisches Kaleidoskop an\, welches dem Witz\, dem Ausgefallenen 
 und Grotesken viel Raum gibt.\nEin farbiger Text- und Musik-Reigen erzähl
 t vom allmählichen Verfall einer Weltmacht.\nUngezählte Dichterinnen und
  Komponisten kommen zu Wort: Marie von Ebner Eschenbach\, Roda Roda\, Bart
 ok und Schulhoff\, Grillparzer\, Werfel\, Alban Berg. Ein Balladenabend de
 r Spezialitäten.\n\nEine Koproduktion vom Theater Rigiblick mit der Quart
 ier-Kultur Kreis 6.\n\nRezitation&nbsp\;&nbsp\; Peter Schweiger\nKlavier &
 nbsp\;&nbsp\;&nbsp\;&nbsp\;&nbsp\;&nbsp\; Petra Ronner\n\nEintrittspreise 
 (freie Platzwahl) Fr. 33.– / 28.– / 15.–&nbsp\;&nbsp\;&nbsp\;&nbsp\;
  Vorverkauf und Reservation: 044 361 80 51 oder tickets@theater-rigiblick.
 ch
ATTACH;FMTTYPE=image/jpeg:https://www.qkk6.ch/wp-content/uploads/ronner_sc
 hwegler-e1595080493396.png
CATEGORIES:Konzert,Lesung
LOCATION:Theater Rigiblick\, Germaniastrasse 99\, Zürich\, 8044\, Schweiz
GEO:47.388274;8.553456
X-APPLE-STRUCTURED-LOCATION;VALUE=URI;X-ADDRESS=Germaniastrasse 99\, Züric
 h\, 8044\, Schweiz;X-APPLE-RADIUS=100;X-TITLE=Theater Rigiblick:geo:47.388
 274,8.553456
END:VEVENT
BEGIN:VTIMEZONE
TZID:Europe/Zurich
X-LIC-LOCATION:Europe/Zurich
BEGIN:STANDARD
DTSTART:20201025T020000
TZOFFSETFROM:+0200
TZOFFSETTO:+0100
TZNAME:CET
END:STANDARD
END:VTIMEZONE
END:VCALENDAR