BEGIN:VCALENDAR
VERSION:2.0
PRODID:-//wp-events-plugin.com//7.2.3.1//EN
TZID:Europe/Zurich
X-WR-TIMEZONE:Europe/Zurich
BEGIN:VEVENT
UID:127@qkk6.ch
DTSTART;TZID=Europe/Zurich:20201024T200000
DTEND;TZID=Europe/Zurich:20201024T200000
DTSTAMP:20200930T064156Z
URL:https://www.qkk6.ch/events/2020/10/24/zuerich-liest-utz-bodamer-und-be
 rt-siegfried-roeslischuer-zuerich/
SUMMARY:Zürich liest: Utz Bodamer und Bert Siegfried
DESCRIPTION: \nDas Buchfestival in Zürich\, Winterthur und Region\nUtz Bod
 amer und Bert Siegfried lesen aus den neu erschienenen\, in Zürcher Café
 s gemeinsam verfassten Texten:\nWir erzählen von Euch. Miniaturen. scaneg
  Verlag\, München 2020\n\nDie Spielarten des Erzählten sind vielfältig 
 und reichhaltig. Die Figuren weben einen Gedanken-Teppich\, der die Lesend
 en mitnimmt und sie zu schillernden Bildern fliegt: Nach Absurdistan\, in 
 ein Märchen hinein\, in den Comic. Eine Satire\, surreale Szenen werden g
 espielt. Auch Tiere\, Pflanzen und Objekte übernehmen die Hauptrolle. Zuw
 eilen treten Geister und Wesen auf. Ein Schicksal schlägt ein. Tragödie 
 ist unvermeidlich. Das grosse Lachen bricht aus.\n\nEinführung: Matthias 
 Klein\, scaneg Verlag\, München\n\nKollekte\, beschränkte Platzzahl!
ATTACH;FMTTYPE=image/jpeg:https://www.qkk6.ch/wp-content/uploads/bert-e159
 5080007307.jpg
CATEGORIES:Lesung
LOCATION:Röslischüür\, Röslistrasse 9\, Zürich\, 8006\, Schweiz
GEO:47.388508;8.541154
X-APPLE-STRUCTURED-LOCATION;VALUE=URI;X-ADDRESS=Röslistrasse 9\, Zürich\,
  8006\, Schweiz;X-APPLE-RADIUS=100;X-TITLE=Röslischüür:geo:47.388508,8.
 541154
END:VEVENT
BEGIN:VTIMEZONE
TZID:Europe/Zurich
X-LIC-LOCATION:Europe/Zurich
BEGIN:DAYLIGHT
DTSTART:20200329T030000
TZOFFSETFROM:+0100
TZOFFSETTO:+0200
TZNAME:CEST
END:DAYLIGHT
END:VTIMEZONE
END:VCALENDAR