BEGIN:VCALENDAR
VERSION:2.0
PRODID:-//wp-events-plugin.com//7.2.3.1//EN
TZID:Europe/Zurich
X-WR-TIMEZONE:Europe/Zurich
BEGIN:VEVENT
UID:126@qkk6.ch
DTSTART;TZID=Europe/Zurich:20201023T200000
DTEND;TZID=Europe/Zurich:20201023T200000
DTSTAMP:20200929T093130Z
URL:https://www.qkk6.ch/events/2020/10/23/zuerich-liest-peter-k-wehrli-roe
 slischuer-zuerich-2/
SUMMARY:Zürich liest: Peter K. Wehrli - nur mit Anmeldung
DESCRIPTION: \nDas Buchfestival in Zürich\, Winterthur und Region\nBuchver
 nissage: Peter K. Wehrli liest aus seiner&nbsp\;„Agenda für Immer“ (2
 020) \nAls poetischer Jahresüberblick&nbsp\; versammelt die Agenda Erfahr
 ungen und Beobachtungen aus vielen Weltgegenden und vielen Jahrzehnten.&nb
 sp\; Das Zusammenspiel von Fremdem und Vertrautem&nbsp\; zieht sich als Gr
 undton durch Wehrlis&nbsp\; gesamtes literarisches Schaffen\,&nbsp\; in de
 ssen Zentrum seit mehr als 50 Jahren der stets wachsende „Katalog von Al
 lem“ steht.&nbsp\; So ist denn die „Agenda für Immer“ auch&nbsp\; T
 eil dieses&nbsp\; dauernd erweiterten „Works&nbsp\; in Progress“.&nbsp
 \; Es sind „Bilder aus Sprache“\, die Wehrli da versammelt\, Sprachbil
 der die entstehen mussten\, weil Wehrli auf der Reise im Orientexpress sei
 ne Kamera&nbsp\; vergessen hatte.&nbsp\; So entschloss er sich denn\, alle
  jene Dinge zu notieren\, die er fotografiert hätte\, wenn er die Kamera 
 bei sich gehabt hätte: Abbildungen aus Sprache und Sprache statt Bild - G
 edankenblitz statt Schnappschuss. Diese wörtliche Bilderfolge wird unvers
 ehens zur Agenda&nbsp\; weil die Eintragungen den Daten zugeordnet sind\, 
 an denen sich das Erlebte zugetragen hat. Das Fremde und das Vertraute ver
 mischen sich: Dies ist der unschuldige Blick dessen\, der\, was er sieht\,
  zum ersten Mal sieht. Diese Lust am Wahrnehmen möchte Wehrli nun auch mi
 t der&nbsp\; „Agenda für Immer“ wecken. “Es gibt nicht viele Büche
 r\, deren literarische Haltbarkeit man voraussagen kann. Der „Katalog vo
 n Allem“ ist eins von ihnen“. Was die Tageszeitung „die Welt“ da g
 eschrieben hat\, trifft durchaus auch auf die „Agenda für Immer“ zu.\
 n\nBeschränkte Platzzahl: Nur mit Anmeldung bei christine.nipkow@bluewin.
 ch\n\nKollekte\n\n&nbsp\;\n\nNach der Lesung sind alle zu einem Apéro ein
 geladen
ATTACH;FMTTYPE=image/jpeg:https://www.qkk6.ch/wp-content/uploads/pkwkleine
 r-e1626338620582.png
CATEGORIES:Lesung
LOCATION:Röslischüür\, Röslistrasse 9\, Zürich\, 8006\, Schweiz
GEO:47.388508;8.541154
X-APPLE-STRUCTURED-LOCATION;VALUE=URI;X-ADDRESS=Röslistrasse 9\, Zürich\,
  8006\, Schweiz;X-APPLE-RADIUS=100;X-TITLE=Röslischüür:geo:47.388508,8.
 541154
END:VEVENT
BEGIN:VTIMEZONE
TZID:Europe/Zurich
X-LIC-LOCATION:Europe/Zurich
BEGIN:DAYLIGHT
DTSTART:20200329T030000
TZOFFSETFROM:+0100
TZOFFSETTO:+0200
TZNAME:CEST
END:DAYLIGHT
END:VTIMEZONE
END:VCALENDAR