BEGIN:VCALENDAR
VERSION:2.0
PRODID:-//wp-events-plugin.com//7.2.3.1//EN
TZID:Europe/Zurich
X-WR-TIMEZONE:Europe/Zurich
BEGIN:VEVENT
UID:120@qkk6.ch
DTSTART;TZID=Europe/Zurich:20201022T200000
DTEND;TZID=Europe/Zurich:20201022T200000
DTSTAMP:20200930T064214Z
URL:https://www.qkk6.ch/events/2020/10/22/zuerich-liest-andreas-neeser-roe
 slischuer-zuerich/
SUMMARY:Zürich liest: Andreas Neeser
DESCRIPTION: \nDas Buchfestival in Zürich\, Winterthur und Region\nAndreas
  Neeser liest aus seinem Mundart Werk Alpefisch (2020)\n\n\nWenn sich zwei
  junge Menschen mit ziemlich viel Leben im Rucksack ineinander verlieben\,
  kann das gut gehen. Im Fall des jungen Heilpädagogen Brunner und der Jus
 -Studentin Katrin erweist sich die Beziehung aber als komplizierter als er
 hofft. Was als spielerische Sommerliebe beginnt\, wird zu einem leidenscha
 ftlichen Abnützungskampf. Bis sich Brunner dazu entschliesst\, eine irrwi
 tzige Idee in die Tat umzusetzen...\n\nKollekte\, beschränkte Platzzahl!\
 n\n&nbsp\;
ATTACH;FMTTYPE=image/jpeg:https://www.qkk6.ch/wp-content/uploads/Porträt-
 Neeser_quer1©Ayse-Yavas_2015klei-e1595079100203.jpg
CATEGORIES:Lesung
LOCATION:Röslischüür\, Röslistrasse 9\, Zürich\, 8006\, Schweiz
GEO:47.388508;8.541154
X-APPLE-STRUCTURED-LOCATION;VALUE=URI;X-ADDRESS=Röslistrasse 9\, Zürich\,
  8006\, Schweiz;X-APPLE-RADIUS=100;X-TITLE=Röslischüür:geo:47.388508,8.
 541154
END:VEVENT
BEGIN:VTIMEZONE
TZID:Europe/Zurich
X-LIC-LOCATION:Europe/Zurich
BEGIN:DAYLIGHT
DTSTART:20200329T030000
TZOFFSETFROM:+0100
TZOFFSETTO:+0200
TZNAME:CEST
END:DAYLIGHT
END:VTIMEZONE
END:VCALENDAR