BEGIN:VCALENDAR
VERSION:2.0
PRODID:-//wp-events-plugin.com//7.2.3.1//EN
TZID:Europe/Zurich
X-WR-TIMEZONE:Europe/Zurich
BEGIN:VEVENT
UID:123@qkk6.ch
DTSTART;TZID=Europe/Zurich:20201019T200000
DTEND;TZID=Europe/Zurich:20201019T200000
DTSTAMP:20201013T095527Z
URL:https://www.qkk6.ch/events/2020/10/19/balladen-im-rigiblick-22/
SUMMARY:Balladen im Rigiblick - ausverkauft
DESCRIPTION:Balladen zur Zeit mit Franz Hohler\nKapitel VI der dritten Ball
 aden-Reihe\n\nWiederholung wegen grosser Nachfrage\n\n„Suworow“\, „F
 riedrich\, der Gerechte“\, „Der Weltuntergang“: Einige Titel aus Fra
 nz Hohlers Balladenwerk.\nEr beschenkt die Balladenreihe mit seinem Auftri
 tt und greift wieder einmal zum Violoncello.\n„Balladen zur Zeit“: Die
  alte Form wird aktualisiert. Wer Franz Hohler kennt weiss\, dass viel Hin
 tersinn und Humor\, Scharfblick und Sprachkunst zu erwarten sind.\n\nEine 
 Koproduktion vom Theater Rigiblick mit der Quartier-Kultur Kreis 6.\n\nRez
 itation und Cello &nbsp\;&nbsp\;&nbsp\;&nbsp\;&nbsp\;&nbsp\;&nbsp\;&nbsp\;
 &nbsp\;&nbsp\;&nbsp\;&nbsp\;&nbsp\; Franz Hohler\nKonzept &nbsp\; &nbsp\; 
 &nbsp\; &nbsp\; &nbsp\; &nbsp\; &nbsp\; &nbsp\; &nbsp\; &nbsp\; &nbsp\; &n
 bsp\; &nbsp\; &nbsp\;&nbsp\;&nbsp\;&nbsp\;&nbsp\;&nbsp\; Daniel Fueter\nLi
 cht &nbsp\; &nbsp\; &nbsp\; &nbsp\; &nbsp\; &nbsp\; &nbsp\; &nbsp\; &nbsp\
 ; &nbsp\; &nbsp\; &nbsp\; &nbsp\;&nbsp\; &nbsp\;&nbsp\;&nbsp\;&nbsp\;&nbsp
 \;&nbsp\;&nbsp\;&nbsp\;&nbsp\;&nbsp\; Simone Kaufmann\n\nEintrittspreise (
 freie Platzwahl) Fr. 33.– / 28.– / 15.–&nbsp\;&nbsp\;&nbsp\;&nbsp\; 
 Vorverkauf und Reservation: 044 361 80 51 oder tickets@theater-rigiblick.c
 h
ATTACH;FMTTYPE=image/jpeg:https://www.qkk6.ch/wp-content/uploads/hohlergro
 sskl-e1595081040559.jpg
CATEGORIES:Konzert,Lesung
LOCATION:Theater Rigiblick\, Germaniastrasse 99\, Zürich\, 8044\, Schweiz
GEO:47.388274;8.553456
X-APPLE-STRUCTURED-LOCATION;VALUE=URI;X-ADDRESS=Germaniastrasse 99\, Züric
 h\, 8044\, Schweiz;X-APPLE-RADIUS=100;X-TITLE=Theater Rigiblick:geo:47.388
 274,8.553456
END:VEVENT
BEGIN:VTIMEZONE
TZID:Europe/Zurich
X-LIC-LOCATION:Europe/Zurich
BEGIN:DAYLIGHT
DTSTART:20200329T030000
TZOFFSETFROM:+0100
TZOFFSETTO:+0200
TZNAME:CEST
END:DAYLIGHT
END:VTIMEZONE
END:VCALENDAR